BEGIN:VCALENDAR
VERSION:2.0
PRODID:-//Events | FID-Recht//NONSGML Events//EN
CALSCALE:GREGORIAN
X-ORIGINAL-URL:https://events.intrecht.de/termine/
X-WR-CALDESC:Events | FID-Recht - Events
BEGIN:VEVENT
UID:20200603T1418Z-1591193923.3362-EO-587-1@172.16.200.141
STATUS:CONFIRMED
DTSTAMP:20260422T071734Z
CREATED:20240124T102552Z
LAST-MODIFIED:20240124T102552Z
DTSTART;VALUE=DATE:20240209
DTEND;VALUE=DATE:20240210
SUMMARY: Launch of the Special Issue on Climate Litigation in the Chinese J
 ournal of Environmental Law (Webinar)
DESCRIPTION: 9.2.2024 / Online https://climate.law.columbia.edu/events/laun
 ch-special-issue-clim-lit-chinese-journal
X-ALT-DESC;FMTTYPE=text/html: <p>9.2.2024 / Online</p><p><a href="https://c
 limate.law.columbia.edu/events/launch-special-issue-clim-lit-chinese-journa
 l">https://climate.law.columbia.edu/events/launch-special-issue-clim-lit-ch
 inese-journal</a></p><p>[av_button label='iCal-Export' link='./feed/eo-even
 ts' link_target='' size='small' position='center' label_display='' title_at
 tr='' icon_select='yes' icon='ue85b' font='entypo-fontello' color='custom' 
 custom_bg='#b5123e' custom_font='#ffffff' av_uid='' id='' custom_class='' a
 dmin_preview_bg='']</p>
CATEGORIES:Recht interdisziplinär
LOCATION:Online
GEO:0.000000;0.000000
ORGANIZER;CN="ViFa-Recht":MAILTO:vifa-recht@sbb.spk-berlin.de
URL;VALUE=URI:https://events.intrecht.de/termine/termin/launch-of-the-speci
 al-issue-on-climate-litigation-in-the-chinese-journal-of-environmental-law-
 webinar/
END:VEVENT
BEGIN:VTIMEZONE
TZID:Europe/Berlin
BEGIN:STANDARD
TZOFFSETFROM:+0200
TZOFFSETTO:+0100
DTSTART:20231029T010000
TZNAME:CET
END:STANDARD
END:VTIMEZONE
END:VCALENDAR
