BEGIN:VCALENDAR
VERSION:2.0
PRODID:-//Events | FID-Recht//NONSGML Events//EN
CALSCALE:GREGORIAN
X-ORIGINAL-URL:https://events.intrecht.de/termine/
X-WR-CALDESC:Events | FID-Recht - Events
BEGIN:VEVENT
UID:20200603T1418Z-1591193923.3362-EO-587-1@172.16.200.141
STATUS:CONFIRMED
DTSTAMP:20260422T154630Z
CREATED:20240925T162002Z
LAST-MODIFIED:20240925T162002Z
DTSTART;VALUE=DATE:20241010
DTEND;VALUE=DATE:20241011
SUMMARY: Launch of the Fondation Abi-Saab pour le droit international et la
  justice sociale (Hybrid Event)
DESCRIPTION: 10.10.2024 / Online und Genf https://www.graduateinstitute.ch/
 communications/events/launch-fondation-abi-saab-pour-le-droit-international
 -et-la-justice-sociale
X-ALT-DESC;FMTTYPE=text/html: <p>10.10.2024 / Online und Genf</p><p><a href
 ="https://www.graduateinstitute.ch/communications/events/launch-fondation-a
 bi-saab-pour-le-droit-international-et-la-justice-sociale">https://www.grad
 uateinstitute.ch/communications/events/launch-fondation-abi-saab-pour-le-dr
 oit-international-et-la-justice-sociale</a></p><p>[av_button label='iCal-Ex
 port' link='./feed/eo-events' link_target='' size='small' position='center'
  label_display='' title_attr='' icon_select='yes' icon='ue85b' font='entypo
 -fontello' color='custom' custom_bg='#b5123e' custom_font='#ffffff' av_uid=
 '' id='' custom_class='' admin_preview_bg='']</p>
CATEGORIES:Europäisches / Internationales Recht
LOCATION:Hybrid
GEO:0.000000;0.000000
ORGANIZER;CN="ViFa-Recht":MAILTO:vifa-recht@sbb.spk-berlin.de
URL;VALUE=URI:https://events.intrecht.de/termine/termin/launch-of-the-fonda
 tion-abi-saab-pour-le-droit-international-et-la-justice-sociale-hybrid-even
 t/
END:VEVENT
BEGIN:VTIMEZONE
TZID:Europe/Berlin
BEGIN:DAYLIGHT
TZOFFSETFROM:+0100
TZOFFSETTO:+0200
DTSTART:20240331T010000
TZNAME:CEST
END:DAYLIGHT
END:VTIMEZONE
END:VCALENDAR
