BEGIN:VCALENDAR
VERSION:2.0
PRODID:-//Events | FID-Recht//NONSGML Events//EN
CALSCALE:GREGORIAN
X-ORIGINAL-URL:https://events.intrecht.de/termine/
X-WR-CALDESC:Events | FID-Recht - Events
BEGIN:VEVENT
UID:20200617T1407Z-1592402844.6142-EO-954-1@172.16.200.141
STATUS:CONFIRMED
DTSTAMP:20260421T185910Z
CREATED:20200605T104022Z
LAST-MODIFIED:20200605T104041Z
DTSTART;VALUE=DATE:20210514
DTEND;VALUE=DATE:20210516
SUMMARY: L’art et le droit – Journées internationales de la Société d’histo
 ire du droit et des institutions des pays flamands\, picards et wallons (Ko
 nferenz)
DESCRIPTION: 14.-15.5.2021\, Middelburg http://esclh.blogspot.com/2020/02/c
 all-for-papers-international-days-of.html http://esclh.blogspot.com/2020/03
 /cancelled-and-postponed-journees.html  
X-ALT-DESC;FMTTYPE=text/html: <p>14.-15.5.2021\, Middelburg</p><p><a href="
 http://esclh.blogspot.com/2020/02/call-for-papers-international-days-of.htm
 l">http://esclh.blogspot.com/2020/02/call-for-papers-international-days-of.
 html</a></p><p><a href="http://esclh.blogspot.com/2020/03/cancelled-and-pos
 tponed-journees.html">http://esclh.blogspot.com/2020/03/cancelled-and-postp
 oned-journees.html</a></p><p> </p><p>[av_button label='iCal-Export' link='.
 /feed/eo-events' link_target='' size='small' position='center' label_displa
 y='' title_attr='' icon_select='yes' icon='ue85b' font='entypo-fontello' co
 lor='custom' custom_bg='#b5123e' custom_font='#ffffff' av_uid='' id='' cust
 om_class='' admin_preview_bg='']</p>
CATEGORIES:Recht interdisziplinär
LOCATION:Ausland
GEO:0.000000;0.000000
ORGANIZER;CN="ViFa-Recht":MAILTO:vifa-recht@sbb.spk-berlin.de
URL;VALUE=URI:https://events.intrecht.de/termine/termin/lart-et-le-droit-jo
 urnees-internationales-de-la-societe-dhistoire-du-droit-et-des-institutions
 -des-pays-flamands-picards-et-wallons-konferenz/
END:VEVENT
BEGIN:VTIMEZONE
TZID:Europe/Berlin
BEGIN:DAYLIGHT
TZOFFSETFROM:+0100
TZOFFSETTO:+0200
DTSTART:20210328T010000
TZNAME:CEST
END:DAYLIGHT
END:VTIMEZONE
END:VCALENDAR
