BEGIN:VCALENDAR
VERSION:2.0
PRODID:-//Events | FID-Recht//NONSGML Events//EN
CALSCALE:GREGORIAN
X-ORIGINAL-URL:https://events.intrecht.de/termine/
X-WR-CALDESC:Events | FID-Recht - Events
BEGIN:VEVENT
UID:20200602T0945Z-1591091115.9737-EO-599-1@172.16.200.141
STATUS:CONFIRMED
DTSTAMP:20260423T084539Z
CREATED:20260211T153151Z
LAST-MODIFIED:20260211T153151Z
DTSTART;VALUE=DATE:20260204
DTEND;VALUE=DATE:20260205
SUMMARY: Large Language Models for Legal Reasoning and Legislation Support 
 (Virtual Lecture)
DESCRIPTION: 4.2.2026 / Online https://events.mpipriv.de/b?p=Speaker_Series
 _With_Matthias_Grabmair
X-ALT-DESC;FMTTYPE=text/html: <p>4.2.2026 / Online</p><p><a href="https://e
 vents.mpipriv.de/b?p=Speaker_Series_With_Matthias_Grabmair">https://events.
 mpipriv.de/b?p=Speaker_Series_With_Matthias_Grabmair</a></p><p>[av_button l
 abel='iCal-Export' link='./feed/eo-events' link_target='' size='small' posi
 tion='center' label_display='' title_attr='' icon_select='yes' icon='ue85b'
  font='entypo-fontello' color='custom' custom_bg='#b5123e' custom_font='#ff
 ffff' av_uid='' id='' custom_class='' admin_preview_bg='']</p>
CATEGORIES:Recht interdisziplinär
LOCATION:Online
GEO:0.000000;0.000000
ORGANIZER;CN="ViFa-Recht":MAILTO:vifa-recht@sbb.spk-berlin.de
URL;VALUE=URI:https://events.intrecht.de/termine/termin/large-language-mode
 ls-for-legal-reasoning-and-legislation-support-virtual-lecture/
END:VEVENT
BEGIN:VTIMEZONE
TZID:Europe/Berlin
BEGIN:STANDARD
TZOFFSETFROM:+0200
TZOFFSETTO:+0100
DTSTART:20251026T010000
TZNAME:CET
END:STANDARD
END:VTIMEZONE
END:VCALENDAR
