BEGIN:VCALENDAR
VERSION:2.0
PRODID:-//Events | FID-Recht//NONSGML Events//EN
CALSCALE:GREGORIAN
X-ORIGINAL-URL:https://events.intrecht.de/termine/
X-WR-CALDESC:Events | FID-Recht - Events
BEGIN:VEVENT
UID:20200603T1418Z-1591193923.3362-EO-587-1@172.16.200.141
STATUS:CONFIRMED
DTSTAMP:20260423T071631Z
CREATED:20250902T115943Z
LAST-MODIFIED:20250902T115943Z
DTSTART;VALUE=DATE:20250910
DTEND;VALUE=DATE:20250911
SUMMARY: Lands for the Taking: Neo-Imperialism and the Possibilities and Li
 mits of International Law (Conference)
DESCRIPTION: 10.9.2025 / Berlin https://www.graduateinstitute.ch/communicat
 ions/events/lands-taking-neo-imperialism-and-possibilities-and-limits-inter
 national-law
X-ALT-DESC;FMTTYPE=text/html: <p>10.9.2025 / Berlin</p><p><a href="https://
 www.graduateinstitute.ch/communications/events/lands-taking-neo-imperialism
 -and-possibilities-and-limits-international-law">https://www.graduateinstit
 ute.ch/communications/events/lands-taking-neo-imperialism-and-possibilities
 -and-limits-international-law</a></p><p>[av_button label='iCal-Export' link
 ='./feed/eo-events' link_target='' size='small' position='center' label_dis
 play='' title_attr='' icon_select='yes' icon='ue85b' font='entypo-fontello'
  color='custom' custom_bg='#b5123e' custom_font='#ffffff' av_uid='' id='' c
 ustom_class='' admin_preview_bg='']</p>
CATEGORIES:Europäisches / Internationales Recht
LOCATION:Inland
GEO:0.000000;0.000000
ORGANIZER;CN="ViFa-Recht":MAILTO:vifa-recht@sbb.spk-berlin.de
URL;VALUE=URI:https://events.intrecht.de/termine/termin/lands-for-the-takin
 g-neo-imperialism-and-the-possibilities-and-limits-of-international-law-con
 ference/
END:VEVENT
BEGIN:VTIMEZONE
TZID:Europe/Berlin
BEGIN:DAYLIGHT
TZOFFSETFROM:+0100
TZOFFSETTO:+0200
DTSTART:20250330T010000
TZNAME:CEST
END:DAYLIGHT
END:VTIMEZONE
END:VCALENDAR
