BEGIN:VCALENDAR
VERSION:2.0
PRODID:-//Events | FID-Recht//NONSGML Events//EN
CALSCALE:GREGORIAN
X-ORIGINAL-URL:https://events.intrecht.de/termine/
X-WR-CALDESC:Events | FID-Recht - Events
BEGIN:VEVENT
UID:20200603T1418Z-1591193923.3362-EO-587-1@172.16.200.141
STATUS:CONFIRMED
DTSTAMP:20260425T164754Z
CREATED:20230620T164157Z
LAST-MODIFIED:20230620T164157Z
DTSTART;VALUE=DATE:20230720
DTEND;VALUE=DATE:20230721
SUMMARY: Land Restitution\, Expropriation without Compensation and the Ques
 t for Redistributive Justice in South Africa (Vortrag)
DESCRIPTION: 20.7.2023 / Münster https://www.uni-muenster.de/EViR/veranstal
 tungen/fellowlectures.html
X-ALT-DESC;FMTTYPE=text/html: <p>20.7.2023 / Münster</p><p><a href="https:/
 /www.uni-muenster.de/EViR/veranstaltungen/fellowlectures.html">https://www.
 uni-muenster.de/EViR/veranstaltungen/fellowlectures.html</a></p><p>[av_butt
 on label='iCal-Export' link='./feed/eo-events' link_target='' size='small' 
 position='center' label_display='' title_attr='' icon_select='yes' icon='ue
 85b' font='entypo-fontello' color='custom' custom_bg='#b5123e' custom_font=
 '#ffffff' av_uid='' id='' custom_class='' admin_preview_bg='']</p>
CATEGORIES:Recht interdisziplinär
LOCATION:Inland
GEO:0.000000;0.000000
ORGANIZER;CN="ViFa-Recht":MAILTO:vifa-recht@sbb.spk-berlin.de
URL;VALUE=URI:https://events.intrecht.de/termine/termin/land-restitution-ex
 propriation-without-compensation-and-the-quest-for-redistributive-justice-i
 n-south-africa-vortrag/
END:VEVENT
BEGIN:VTIMEZONE
TZID:Europe/Berlin
BEGIN:DAYLIGHT
TZOFFSETFROM:+0100
TZOFFSETTO:+0200
DTSTART:20230326T010000
TZNAME:CEST
END:DAYLIGHT
END:VTIMEZONE
END:VCALENDAR
