BEGIN:VCALENDAR
VERSION:2.0
PRODID:-//Events | FID-Recht//NONSGML Events//EN
CALSCALE:GREGORIAN
X-ORIGINAL-URL:https://events.intrecht.de/termine/
X-WR-CALDESC:Events | FID-Recht - Events
BEGIN:VEVENT
UID:20230418T0012Z-1681776733.3012-EO-8232-1@172.16.200.151
STATUS:CONFIRMED
DTSTAMP:20260425T182940Z
CREATED:20230206T113502Z
LAST-MODIFIED:20230206T113502Z
DTSTART;VALUE=DATE:20230302
DTEND;VALUE=DATE:20230303
SUMMARY: Kunstproduktion in Theresienstadt (Vortrag)
DESCRIPTION: 2.3.2023 / Frankfurt am Main https://www.juedischesmuseum.de/b
 esuch/ausstellungen/detail/d7830b7008a166bae1ac4731cdd03ade/  
X-ALT-DESC;FMTTYPE=text/html: <p>2.3.2023 / Frankfurt am Main</p><p><a href
 ="https://www.juedischesmuseum.de/besuch/ausstellungen/detail/d7830b7008a16
 6bae1ac4731cdd03ade/">https://www.juedischesmuseum.de/besuch/ausstellungen/
 detail/d7830b7008a166bae1ac4731cdd03ade/</a></p><p> </p><p>[av_button label
 ='iCal-Export' link='./feed/eo-events' link_target='' size='small' position
 ='center' label_display='' title_attr='' icon_select='yes' icon='ue85b' fon
 t='entypo-fontello' color='custom' custom_bg='#b5123e' custom_font='#ffffff
 ' av_uid='' id='' custom_class='' admin_preview_bg='']</p>
CATEGORIES:Recht interdisziplinär
LOCATION:Inland
GEO:0.000000;0.000000
ORGANIZER;CN="ViFa-Recht":MAILTO:vifa-recht@sbb.spk-berlin.de
URL;VALUE=URI:https://events.intrecht.de/termine/termin/kunstproduktion-in-
 theresienstadt-vortrag/
END:VEVENT
BEGIN:VTIMEZONE
TZID:Europe/Berlin
BEGIN:STANDARD
TZOFFSETFROM:+0200
TZOFFSETTO:+0100
DTSTART:20221030T010000
TZNAME:CET
END:STANDARD
END:VTIMEZONE
END:VCALENDAR
