BEGIN:VCALENDAR
VERSION:2.0
PRODID:-//Events | FID-Recht//NONSGML Events//EN
CALSCALE:GREGORIAN
X-ORIGINAL-URL:https://events.intrecht.de/termine/
X-WR-CALDESC:Events | FID-Recht - Events
BEGIN:VEVENT
UID:20200603T1418Z-1591193923.3362-EO-587-1@172.16.200.141
STATUS:CONFIRMED
DTSTAMP:20260425T181156Z
CREATED:20230427T075001Z
LAST-MODIFIED:20230427T075001Z
DTSTART;VALUE=DATE:20230904
DTEND;VALUE=DATE:20230910
SUMMARY: Kulturerbe im Transit – Herausforderungen der Begriffsbestimmungen
  und der normativen Umsetzung (Summerschool)
DESCRIPTION: 4.-9.9.2023 / Bibracte (Anmeldefrist: 31.5.2023) https://www.h
 sozkult.de/event/id/event-135484?title=kulturerbe-im-transit-herausforderun
 gen-der-begriffsbestimmungen-und-der-normativen-umsetzung&recno=12&q=Rechts
 wissenschaft&sort=relevance&fq=&total=15
X-ALT-DESC;FMTTYPE=text/html: <p>4.-9.9.2023 / Bibracte <strong>(Anmeldefri
 st: 31.5.2023)</strong></p><p><a href="https://www.hsozkult.de/event/id/eve
 nt-135484?title=kulturerbe-im-transit-herausforderungen-der-begriffsbestimm
 ungen-und-der-normativen-umsetzung&recno=12&q=Rechtswissenschaft&sort=relev
 ance&fq=&total=15">https://www.hsozkult.de/event/id/event-135484?title=kult
 urerbe-im-transit-herausforderungen-der-begriffsbestimmungen-und-der-normat
 iven-umsetzung&recno=12&q=Rechtswissenschaft&sort=relevance&fq=&total=15</a
 ></p><p>[av_button label='iCal-Export' link='./feed/eo-events' link_target=
 '' size='small' position='center' label_display='' title_attr='' icon_selec
 t='yes' icon='ue85b' font='entypo-fontello' color='custom' custom_bg='#b512
 3e' custom_font='#ffffff' av_uid='' id='' custom_class='' admin_preview_bg=
 '']</p>
CATEGORIES:Recht interdisziplinär
LOCATION:Ausland
GEO:0.000000;0.000000
ORGANIZER;CN="ViFa-Recht":MAILTO:vifa-recht@sbb.spk-berlin.de
URL;VALUE=URI:https://events.intrecht.de/termine/termin/kulturerbe-im-trans
 it-herausforderungen-der-begriffsbestimmungen-und-der-normativen-umsetzung-
 summerschool/
END:VEVENT
BEGIN:VTIMEZONE
TZID:Europe/Berlin
BEGIN:DAYLIGHT
TZOFFSETFROM:+0100
TZOFFSETTO:+0200
DTSTART:20230326T010000
TZNAME:CEST
END:DAYLIGHT
END:VTIMEZONE
END:VCALENDAR
