BEGIN:VCALENDAR
VERSION:2.0
PRODID:-//Events | FID-Recht//NONSGML Events//EN
CALSCALE:GREGORIAN
X-ORIGINAL-URL:https://events.intrecht.de/termine/
X-WR-CALDESC:Events | FID-Recht - Events
BEGIN:VEVENT
UID:20200813T0425Z-1597292754.1707-EO-1368-1@172.16.200.141
STATUS:CONFIRMED
DTSTAMP:20260422T175709Z
CREATED:20200731T172853Z
LAST-MODIFIED:20200731T173134Z
DTSTART;VALUE=DATE:20200815
DTEND;VALUE=DATE:20200816
SUMMARY: Kritische Theorie(n) des Rechts – 29. Tagung des Jungen Forums Rec
 htsphilosophie (Call for Papers)
DESCRIPTION: 6.-8.5.2021\, Braunschweig (Frist für Einreichungen: 15.8.2020
 ) https://www.theorieblog.de/index.php/2020/07/cfp-jfr-tagung-kritische-the
 orien-des-rechts/  
X-ALT-DESC;FMTTYPE=text/html: <p>6.-8.5.2021\, Braunschweig (Frist für Einr
 eichungen: 15.8.2020)</p><p><a href="https://www.theorieblog.de/index.php/2
 020/07/cfp-jfr-tagung-kritische-theorien-des-rechts/">https://www.theoriebl
 og.de/index.php/2020/07/cfp-jfr-tagung-kritische-theorien-des-rechts/</a></
 p><p> </p><p>[av_button label='iCal-Export' link='./feed/eo-events' link_ta
 rget='' size='small' position='center' label_display='' title_attr='' icon_
 select='yes' icon='ue85b' font='entypo-fontello' color='custom' custom_bg='
 #b5123e' custom_font='#ffffff' av_uid='' id='' custom_class='' admin_previe
 w_bg='']</p>
CATEGORIES:Recht interdisziplinär
LOCATION:Inland
GEO:0.000000;0.000000
ORGANIZER;CN="ViFa-Recht":MAILTO:vifa-recht@sbb.spk-berlin.de
URL;VALUE=URI:https://events.intrecht.de/termine/termin/kritische-theorien-
 des-rechts-29-tagung-des-jungen-forums-rechtsphilosophie-call-for-papers/
END:VEVENT
BEGIN:VTIMEZONE
TZID:Europe/Berlin
BEGIN:DAYLIGHT
TZOFFSETFROM:+0100
TZOFFSETTO:+0200
DTSTART:20200329T010000
TZNAME:CEST
END:DAYLIGHT
END:VTIMEZONE
END:VCALENDAR
