BEGIN:VCALENDAR
VERSION:2.0
PRODID:-//Events | FID-Recht//NONSGML Events//EN
CALSCALE:GREGORIAN
X-ORIGINAL-URL:https://events.intrecht.de/termine/
X-WR-CALDESC:Events | FID-Recht - Events
BEGIN:VEVENT
UID:20200603T1418Z-1591193923.3362-EO-587-1@172.16.200.141
STATUS:CONFIRMED
DTSTAMP:20260422T111048Z
CREATED:20240305T132019Z
LAST-MODIFIED:20240305T132019Z
DTSTART;VALUE=DATE:20240408
DTEND;VALUE=DATE:20240410
SUMMARY: Kritik und Reform des Jurastudiums (Tagung)
DESCRIPTION: 8.-9.4.2024 / Hamburg https://www.law-school.de/termin/kritik-
 und-reform-des-jurastudiums
X-ALT-DESC;FMTTYPE=text/html: <p>8.-9.4.2024 / Hamburg</p><p><a href="https
 ://www.law-school.de/termin/kritik-und-reform-des-jurastudiums">https://www
 .law-school.de/termin/kritik-und-reform-des-jurastudiums</a></p><p>[av_butt
 on label='iCal-Export' link='./feed/eo-events' link_target='' size='small' 
 position='center' label_display='' title_attr='' icon_select='yes' icon='ue
 85b' font='entypo-fontello' color='custom' custom_bg='#b5123e' custom_font=
 '#ffffff' av_uid='' id='' custom_class='' admin_preview_bg='']</p>
CATEGORIES:Recht interdisziplinär
LOCATION:Inland
GEO:0.000000;0.000000
ORGANIZER;CN="ViFa-Recht":MAILTO:vifa-recht@sbb.spk-berlin.de
URL;VALUE=URI:https://events.intrecht.de/termine/termin/kritik-und-reform-d
 es-jurastudiums-tagung/
END:VEVENT
BEGIN:VTIMEZONE
TZID:Europe/Berlin
BEGIN:DAYLIGHT
TZOFFSETFROM:+0100
TZOFFSETTO:+0200
DTSTART:20240331T010000
TZNAME:CEST
END:DAYLIGHT
END:VTIMEZONE
END:VCALENDAR
