BEGIN:VCALENDAR
VERSION:2.0
PRODID:-//Events | FID-Recht//NONSGML Events//EN
CALSCALE:GREGORIAN
X-ORIGINAL-URL:https://events.intrecht.de/termine/
X-WR-CALDESC:Events | FID-Recht - Events
BEGIN:VEVENT
UID:20211206T0800Z-1638777632.0177-EO-4472-1@172.16.200.141
STATUS:CONFIRMED
DTSTAMP:20260422T160531Z
CREATED:20211126T224247Z
LAST-MODIFIED:20211126T224247Z
DTSTART;VALUE=DATE:20211201
DTEND;VALUE=DATE:20211202
SUMMARY: Kriminasoziologie. Sexuelle Gewalt oder: Why didn’t he just hit he
 r? (mit Daniela Klimke) / Attrition rate\, Vergewaltigungsmythen – oder doc
 h die Unschuldsvermutung? Zur Einstellungs- und Freispruchhäufigkeit in Sex
 ualstrafsachen (mit Ralf Kölbel) (Online-Vorträge)
DESCRIPTION: 1.12.2021\, Online Passauer 10 Minuten zum Thema Gewalt • Univ
 ersität Passau (uni-passau.de)  
X-ALT-DESC;FMTTYPE=text/html: <p>1.12.2021\, Online</p><p><a href="https://
 www.phil.uni-passau.de/10minuten-wise21/">Passauer 10 Minuten zum Thema Gew
 alt • Universität Passau (uni-passau.de)</a></p><p> </p><p>[av_button label
 ='iCal-Export' link='./feed/eo-events' link_target='' size='small' position
 ='center' label_display='' title_attr='' icon_select='yes' icon='ue85b' fon
 t='entypo-fontello' color='custom' custom_bg='#b5123e' custom_font='#ffffff
 ' av_uid='' id='' custom_class='' admin_preview_bg='']</p>
CATEGORIES:Strafrecht
LOCATION:Online
GEO:0.000000;0.000000
ORGANIZER;CN="ViFa-Recht":MAILTO:vifa-recht@sbb.spk-berlin.de
URL;VALUE=URI:https://events.intrecht.de/termine/termin/kriminasoziologie-s
 exuelle-gewalt-oder-why-didnt-he-just-hit-her-mit-daniela-klimke-attrition-
 rate-vergewaltigungsmythen-oder-doch-die-unschuldsvermutung-zur-einstellung
 s/
END:VEVENT
BEGIN:VTIMEZONE
TZID:Europe/Berlin
BEGIN:STANDARD
TZOFFSETFROM:+0200
TZOFFSETTO:+0100
DTSTART:20211031T010000
TZNAME:CET
END:STANDARD
END:VTIMEZONE
END:VCALENDAR
