BEGIN:VCALENDAR
VERSION:2.0
PRODID:-//Events | FID-Recht//NONSGML Events//EN
CALSCALE:GREGORIAN
X-ORIGINAL-URL:https://events.intrecht.de/termine/
X-WR-CALDESC:Events | FID-Recht - Events
BEGIN:VEVENT
UID:20211104T1246Z-1636030007.358-EO-4977-1@172.16.200.141
STATUS:CONFIRMED
DTSTAMP:20260421T152010Z
CREATED:20211102T153703Z
LAST-MODIFIED:20211102T153703Z
DTSTART;TZID=Europe/Berlin:20211202T090000
DTEND;TZID=Europe/Berlin:20211202T100000
SUMMARY: Kriminalpolitik-Paradoxon – zwischen Twitter und Aktendeckel (mit 
 Prof. Dr. Katrin Höffler) / Strafverfolgung in der Krise – Selektivität als
  Problem oder als Lösung? (mit Stefan Harrendorf und Ralf Peter Anders) (On
 line-Vorträge)
DESCRIPTION: 2.12.2021\, Online Einladung zur Ringvorlesung „Strafrecht in 
 der Krise“ im Wintersemester 2021/22 – Juristische Fakultät – Leibniz Unive
 rsität Hannover (uni-hannover.de)  
X-ALT-DESC;FMTTYPE=text/html: <p>2.12.2021\, Online</p><p><a href="https://
 www.jura.uni-hannover.de/nocache/de/news-veranstaltungen/neuigkeiten/aktuel
 les-detailansicht/news/einladung-zur-ringvorlesung-strafrecht-in-der-krise-
 im-wintersemester-202122-1/">Einladung zur Ringvorlesung "Strafrecht in der
  Krise" im Wintersemester 2021/22 – Juristische Fakultät – Leibniz Universi
 tät Hannover (uni-hannover.de)</a></p><p> </p><p>[av_button label='iCal-Exp
 ort' link='./feed/eo-events' link_target='' size='small' position='center' 
 label_display='' title_attr='' icon_select='yes' icon='ue85b' font='entypo-
 fontello' color='custom' custom_bg='#b5123e' custom_font='#ffffff' av_uid='
 ' id='' custom_class='' admin_preview_bg='']</p>
CATEGORIES:Strafrecht
LOCATION:Online
GEO:0.000000;0.000000
ORGANIZER;CN="ViFa-Recht":MAILTO:vifa-recht@sbb.spk-berlin.de
URL;VALUE=URI:https://events.intrecht.de/termine/termin/kriminalpolitik-par
 adoxon-zwischen-twitter-und-aktendeckel-mit-prof-dr-katrin-hoeffler-strafve
 rfolgung-in-der-krise-selektivitaet-als-problem-oder-als-loesung-mit-stefan
 -ha/
END:VEVENT
BEGIN:VTIMEZONE
TZID:Europe/Berlin
BEGIN:STANDARD
TZOFFSETFROM:+0200
TZOFFSETTO:+0100
DTSTART:20211031T010000
TZNAME:CET
END:STANDARD
END:VTIMEZONE
END:VCALENDAR
