BEGIN:VCALENDAR
VERSION:2.0
PRODID:-//Events | FID-Recht//NONSGML Events//EN
CALSCALE:GREGORIAN
X-ORIGINAL-URL:https://events.intrecht.de/termine/
X-WR-CALDESC:Events | FID-Recht - Events
BEGIN:VEVENT
UID:20220512T0330Z-1652326232.619-EO-6820-1@172.16.200.141
STATUS:CONFIRMED
DTSTAMP:20260421T102824Z
CREATED:20220510T211346Z
LAST-MODIFIED:20220510T211346Z
DTSTART;VALUE=DATE:20220627
DTEND;VALUE=DATE:20220627
SUMMARY: Krieg\, Sport\, Recht – Sanktionen zwischen Verantwortung und Wirk
 ung (Tagung)
DESCRIPTION: 27.6.2022\, Hamburg 27.06.2022: Krieg\, Sport und Recht: Sankt
 ionen zwischen Verantwortung und Wirkung | Max-Planck-Institut für ausländi
 sches und internationales Privatrecht (mpipriv.de)  
X-ALT-DESC;FMTTYPE=text/html: <p>27.6.2022\, Hamburg</p><p><a href="https:/
 /www.mpipriv.de/events/30995/961988">27.06.2022: Krieg\, Sport und Recht: S
 anktionen zwischen Verantwortung und Wirkung | Max-Planck-Institut für ausl
 ändisches und internationales Privatrecht (mpipriv.de)</a></p><p> </p><p>[a
 v_button label='iCal-Export' link='./feed/eo-events' link_target='' size='s
 mall' position='center' label_display='' title_attr='' icon_select='yes' ic
 on='ue85b' font='entypo-fontello' color='custom' custom_bg='#b5123e' custom
 _font='#ffffff' av_uid='' id='' custom_class='' admin_preview_bg='']</p>
CATEGORIES:Europäisches / Internationales Recht,Recht interdisziplinär,Zivilrecht
LOCATION:Inland
GEO:0.000000;0.000000
ORGANIZER;CN="ViFa-Recht":MAILTO:vifa-recht@sbb.spk-berlin.de
URL;VALUE=URI:https://events.intrecht.de/termine/termin/krieg-sport-recht-s
 anktionen-zwischen-verantwortung-und-wirkung-tagung/
END:VEVENT
BEGIN:VTIMEZONE
TZID:Europe/Berlin
BEGIN:DAYLIGHT
TZOFFSETFROM:+0100
TZOFFSETTO:+0200
DTSTART:20220327T010000
TZNAME:CEST
END:DAYLIGHT
END:VTIMEZONE
END:VCALENDAR
