BEGIN:VCALENDAR
VERSION:2.0
PRODID:-//Events | FID-Recht//NONSGML Events//EN
CALSCALE:GREGORIAN
X-ORIGINAL-URL:https://events.intrecht.de/termine/
X-WR-CALDESC:Events | FID-Recht - Events
BEGIN:VEVENT
UID:20200603T1418Z-1591193923.3362-EO-587-1@172.16.200.141
STATUS:CONFIRMED
DTSTAMP:20260425T220727Z
CREATED:20230330T094015Z
LAST-MODIFIED:20230330T094015Z
DTSTART;VALUE=DATE:20230615
DTEND;VALUE=DATE:20230617
SUMMARY: Kontaktzonen zwischen österreichischer und italienischer Rechtskul
 tur (Symposium)
DESCRIPTION: 15.-16.6.2023 / Regensburg https://www.hsozkult.de/event/id/ev
 ent-135234?title=kontaktzonen-zwischen-oesterreichischer-und-italienischer-
 rechtskultur&recno=16&q=&sort=&fq=&total=851
X-ALT-DESC;FMTTYPE=text/html: <p>15.-16.6.2023 / Regensburg</p><p><a href="
 https://www.hsozkult.de/event/id/event-135234?title=kontaktzonen-zwischen-o
 esterreichischer-und-italienischer-rechtskultur&recno=16&q=&sort=&fq=&total
 =851">https://www.hsozkult.de/event/id/event-135234?title=kontaktzonen-zwis
 chen-oesterreichischer-und-italienischer-rechtskultur&recno=16&q=&sort=&fq=
 &total=851</a></p><p>[av_button label='iCal-Export' link='./feed/eo-events'
  link_target='' size='small' position='center' label_display='' title_attr=
 '' icon_select='yes' icon='ue85b' font='entypo-fontello' color='custom' cus
 tom_bg='#b5123e' custom_font='#ffffff' av_uid='' id='' custom_class='' admi
 n_preview_bg='']</p>
CATEGORIES:Recht interdisziplinär
LOCATION:Inland
GEO:0.000000;0.000000
ORGANIZER;CN="ViFa-Recht":MAILTO:vifa-recht@sbb.spk-berlin.de
URL;VALUE=URI:https://events.intrecht.de/termine/termin/kontaktzonen-zwisch
 en-oesterreichischer-und-italienischer-rechtskultur-symposium/
END:VEVENT
BEGIN:VTIMEZONE
TZID:Europe/Berlin
BEGIN:DAYLIGHT
TZOFFSETFROM:+0100
TZOFFSETTO:+0200
DTSTART:20230326T010000
TZNAME:CEST
END:DAYLIGHT
END:VTIMEZONE
END:VCALENDAR
