BEGIN:VCALENDAR
VERSION:2.0
PRODID:-//Events | FID-Recht//NONSGML Events//EN
CALSCALE:GREGORIAN
X-ORIGINAL-URL:https://events.intrecht.de/termine/
X-WR-CALDESC:Events | FID-Recht - Events
BEGIN:VEVENT
UID:20200603T1418Z-1591193923.3362-EO-587-1@172.16.200.141
STATUS:CONFIRMED
DTSTAMP:20260426T003139Z
CREATED:20231122T100324Z
LAST-MODIFIED:20231122T100324Z
DTSTART;VALUE=DATE:20231201
DTEND;VALUE=DATE:20231202
SUMMARY: Konfliktregulierung in Deutschlands pluraler Gesellschaft: ‚Parall
 eljustiz‘? (Tagung)
DESCRIPTION: 1.12.2023 / Berlin https://csl.mpg.de/573861/konfliktregulieru
 ng-in-deutschlands-pluraler-gesellschaft-paralleljustiz-externe-veranstaltu
 ng.html
X-ALT-DESC;FMTTYPE=text/html: <p>1.12.2023 / Berlin</p><p><a href="https://
 csl.mpg.de/573861/konfliktregulierung-in-deutschlands-pluraler-gesellschaft
 -paralleljustiz-externe-veranstaltung.html">https://csl.mpg.de/573861/konfl
 iktregulierung-in-deutschlands-pluraler-gesellschaft-paralleljustiz-externe
 -veranstaltung.html</a></p><p>[av_button label='iCal-Export' link='./feed/e
 o-events' link_target='' size='small' position='center' label_display='' ti
 tle_attr='' icon_select='yes' icon='ue85b' font='entypo-fontello' color='cu
 stom' custom_bg='#b5123e' custom_font='#ffffff' av_uid='' id='' custom_clas
 s='' admin_preview_bg='']</p>
CATEGORIES:Recht interdisziplinär
LOCATION:Inland
GEO:0.000000;0.000000
ORGANIZER;CN="ViFa-Recht":MAILTO:vifa-recht@sbb.spk-berlin.de
URL;VALUE=URI:https://events.intrecht.de/termine/termin/konfliktregulierung
 -in-deutschlands-pluraler-gesellschaft-paralleljustiz-tagung/
END:VEVENT
BEGIN:VTIMEZONE
TZID:Europe/Berlin
BEGIN:STANDARD
TZOFFSETFROM:+0200
TZOFFSETTO:+0100
DTSTART:20231029T010000
TZNAME:CET
END:STANDARD
END:VTIMEZONE
END:VCALENDAR
