BEGIN:VCALENDAR
VERSION:2.0
PRODID:-//Events | FID-Recht//NONSGML Events//EN
CALSCALE:GREGORIAN
X-ORIGINAL-URL:https://events.intrecht.de/termine/
X-WR-CALDESC:Events | FID-Recht - Events
BEGIN:VEVENT
UID:20200709T1438Z-1594305500.4785-EO-1151-1@172.16.200.141
STATUS:CONFIRMED
DTSTAMP:20260422T180832Z
CREATED:20200717T131307Z
LAST-MODIFIED:20210517T160134Z
DTSTART;VALUE=DATE:20220616
DTEND;VALUE=DATE:20220619
SUMMARY: Konferenz: Die Autorität des Rechts und die Herausforderungen durc
 h den gegenwärtigen Autoritarismus (Tagung der Deutschen Sektion der IVR) (
 Konferenz)
DESCRIPTION: 16.-18.6.2022\, München Weitere Infos siehe https://rechtsphil
 osophie.files.wordpress.com/2020/03/vorankucc88ndigung-ivr-tagung.pdf   VER
 ANSTALTUNGEN | Internationale Vereinigung für Rechts- und Sozialphilosophie
  e. V. – Deutsche Sektion (wordpress.com)  
X-ALT-DESC;FMTTYPE=text/html: <p><span style="display: inline !important\; 
 float: none\; background-color: #ffffff\; color: #333333\; cursor: text\; f
 ont-family: Georgia\,'Times New Roman'\,'Bitstream Charter'\,Times\,serif\;
  font-size: 16px\; font-style: normal\; font-variant: normal\; font-weight:
  400\; letter-spacing: normal\; orphans: 2\; text-align: left\; text-decora
 tion: none\; text-indent: 0px\; text-transform: none\; -webkit-text-stroke-
 width: 0px\; white-space: normal\; word-spacing: 0px\;">16.-18.6.2022\, Mün
 chen</span></p><p>Weitere Infos siehe</p><p><a href="https://rechtsphilosop
 hie.files.wordpress.com/2020/03/vorankucc88ndigung-ivr-tagung.pdf">https://
 rechtsphilosophie.files.wordpress.com/2020/03/vorankucc88ndigung-ivr-tagung
 .pdf</a></p><p> </p><p><a href="https://rechtsphilosophie.wordpress.com/ver
 anstaltungen/">VERANSTALTUNGEN | Internationale Vereinigung für Rechts- und
  Sozialphilosophie e. V. - Deutsche Sektion (wordpress.com)</a></p><p> </p>
 <p>[av_button label='iCal-Export' link='./feed/eo-events' link_target='' si
 ze='small' position='center' label_display='' title_attr='' icon_select='ye
 s' icon='ue85b' font='entypo-fontello' color='custom' custom_bg='#b5123e' c
 ustom_font='#ffffff' av_uid='' id='' custom_class='' admin_preview_bg='']</
 p>
CATEGORIES:Recht interdisziplinär
LOCATION:Inland
GEO:0.000000;0.000000
ORGANIZER;CN="ViFa-Recht":MAILTO:vifa-recht@sbb.spk-berlin.de
URL;VALUE=URI:https://events.intrecht.de/termine/termin/konferenz-die-autor
 itaet-des-rechts-und-die-herausforderungen-durch-den-gegenwaertigen-autorit
 arismus-tagung-der-deutschen-sektion-der-ivr-konferenz-2/
END:VEVENT
BEGIN:VTIMEZONE
TZID:Europe/Berlin
BEGIN:DAYLIGHT
TZOFFSETFROM:+0100
TZOFFSETTO:+0200
DTSTART:20220327T010000
TZNAME:CEST
END:DAYLIGHT
END:VTIMEZONE
END:VCALENDAR
