BEGIN:VCALENDAR
VERSION:2.0
PRODID:-//Events | FID-Recht//NONSGML Events//EN
CALSCALE:GREGORIAN
X-ORIGINAL-URL:https://events.intrecht.de/termine/
X-WR-CALDESC:Events | FID-Recht - Events
BEGIN:VEVENT
UID:20200603T1418Z-1591193923.3362-EO-587-1@172.16.200.141
STATUS:CONFIRMED
DTSTAMP:20260425T233007Z
CREATED:20231004T073139Z
LAST-MODIFIED:20231004T073228Z
DTSTART;VALUE=DATE:20231115
DTEND;VALUE=DATE:20231116
SUMMARY: Kommunale Finanzen (Symposium / 34. Bad Iburger Gespräche)
DESCRIPTION: 15.11.2023 / Osnabrück (Anmeldefrist: 31.10.2023) https://www.
 jura.uni-osnabrueck.de/fileadmin/public/media/LS-Wolff/Einladung_34_Bad_Ibu
 rger_Gespraeche_2023.pdf
X-ALT-DESC;FMTTYPE=text/html: <p>15.11.2023 / Osnabrück <strong>(Anmeldefri
 st: 31.10.2023)</strong></p><p><a href="https://www.jura.uni-osnabrueck.de/
 fileadmin/public/media/LS-Wolff/Einladung_34_Bad_Iburger_Gespraeche_2023.pd
 f">https://www.jura.uni-osnabrueck.de/fileadmin/public/media/LS-Wolff/Einla
 dung_34_Bad_Iburger_Gespraeche_2023.pdf</a></p><p>[av_button label='iCal-Ex
 port' link='./feed/eo-events' link_target='' size='small' position='center'
  label_display='' title_attr='' icon_select='yes' icon='ue85b' font='entypo
 -fontello' color='custom' custom_bg='#b5123e' custom_font='#ffffff' av_uid=
 '' id='' custom_class='' admin_preview_bg='']</p>
CATEGORIES:Öffentliches Recht
LOCATION:Inland
GEO:0.000000;0.000000
ORGANIZER;CN="ViFa-Recht":MAILTO:vifa-recht@sbb.spk-berlin.de
URL;VALUE=URI:https://events.intrecht.de/termine/termin/kommunale-finanzen-
 symposium-34-bad-iburger-gespraeche/
END:VEVENT
BEGIN:VTIMEZONE
TZID:Europe/Berlin
BEGIN:STANDARD
TZOFFSETFROM:+0200
TZOFFSETTO:+0100
DTSTART:20231029T010000
TZNAME:CET
END:STANDARD
END:VTIMEZONE
END:VCALENDAR
