BEGIN:VCALENDAR
VERSION:2.0
PRODID:-//Events | FID-Recht//NONSGML Events//EN
CALSCALE:GREGORIAN
X-ORIGINAL-URL:https://events.intrecht.de/termine/
X-WR-CALDESC:Events | FID-Recht - Events
BEGIN:VEVENT
UID:20200603T1418Z-1591193923.3362-EO-587-1@172.16.200.141
STATUS:CONFIRMED
DTSTAMP:20260425T213614Z
CREATED:20231106T160329Z
LAST-MODIFIED:20231106T160329Z
DTSTART;VALUE=DATE:20231121
DTEND;VALUE=DATE:20231122
SUMMARY: Kollektive Gefährdungslagen im Asylrecht (Book Launch)
DESCRIPTION: 21.11.2023 / Online und Berlin https://www.rewi.hu-berlin.de/d
 e/lf/oe/lsi/termine/kollektive-gefaehrdungslagen-im-asylrecht-mohr-siebeck-
 book-launch-mit-paul-pettersson
X-ALT-DESC;FMTTYPE=text/html: <p>21.11.2023 / Online und Berlin</p><p><a hr
 ef="https://www.rewi.hu-berlin.de/de/lf/oe/lsi/termine/kollektive-gefaehrdu
 ngslagen-im-asylrecht-mohr-siebeck-book-launch-mit-paul-pettersson">https:/
 /www.rewi.hu-berlin.de/de/lf/oe/lsi/termine/kollektive-gefaehrdungslagen-im
 -asylrecht-mohr-siebeck-book-launch-mit-paul-pettersson</a></p><p>[av_butto
 n label='iCal-Export' link='./feed/eo-events' link_target='' size='small' p
 osition='center' label_display='' title_attr='' icon_select='yes' icon='ue8
 5b' font='entypo-fontello' color='custom' custom_bg='#b5123e' custom_font='
 #ffffff' av_uid='' id='' custom_class='' admin_preview_bg='']</p>
CATEGORIES:Öffentliches Recht
LOCATION:Online
GEO:0.000000;0.000000
ORGANIZER;CN="ViFa-Recht":MAILTO:vifa-recht@sbb.spk-berlin.de
URL;VALUE=URI:https://events.intrecht.de/termine/termin/kollektive-gefaehrd
 ungslagen-im-asylrecht-book-launch/
END:VEVENT
BEGIN:VTIMEZONE
TZID:Europe/Berlin
BEGIN:STANDARD
TZOFFSETFROM:+0200
TZOFFSETTO:+0100
DTSTART:20231029T010000
TZNAME:CET
END:STANDARD
END:VTIMEZONE
END:VCALENDAR
