BEGIN:VCALENDAR
VERSION:2.0
PRODID:-//Events | FID-Recht//NONSGML Events//EN
CALSCALE:GREGORIAN
X-ORIGINAL-URL:https://events.intrecht.de/termine/
X-WR-CALDESC:Events | FID-Recht - Events
BEGIN:VEVENT
UID:20211218T0451Z-1639803061.3774-EO-5418-1@172.16.200.141
STATUS:CONFIRMED
DTSTAMP:20260420T112009Z
CREATED:20211216T111817Z
LAST-MODIFIED:20211216T111817Z
DTSTART;VALUE=DATE:20211222
DTEND;VALUE=DATE:20211223
SUMMARY: Körpersoziologie. Ästhetisierte Gewalt in der Popkultur (mit Carst
 en Heinze) / Kann das Fernsehen zum Fest der Liebe zur Gewaltlosigkeit gezw
 ungen werden? (mit Kai von Lewinski) (Online-Vorträge)
DESCRIPTION: 22.12.2021\, Online Passauer 10 Minuten zum Thema Gewalt • Uni
 versität Passau (uni-passau.de)  
X-ALT-DESC;FMTTYPE=text/html: <p>22.12.2021\, Online</p><p><a href="https:/
 /www.phil.uni-passau.de/10minuten-wise21/">Passauer 10 Minuten zum Thema Ge
 walt • Universität Passau (uni-passau.de)</a></p><p> </p><p>[av_button labe
 l='iCal-Export' link='./feed/eo-events' link_target='' size='small' positio
 n='center' label_display='' title_attr='' icon_select='yes' icon='ue85b' fo
 nt='entypo-fontello' color='custom' custom_bg='#b5123e' custom_font='#fffff
 f' av_uid='' id='' custom_class='' admin_preview_bg='']</p>
CATEGORIES:Strafrecht
LOCATION:Online
GEO:0.000000;0.000000
ORGANIZER;CN="ViFa-Recht":MAILTO:vifa-recht@sbb.spk-berlin.de
URL;VALUE=URI:https://events.intrecht.de/termine/termin/koerpersoziologie-a
 esthetisierte-gewalt-in-der-popkultur-mit-carsten-heinze-kann-das-fernsehen
 -zum-fest-der-liebe-zur-gewaltlosigkeit-gezwungen-werden-mit-kai-von-lewins
 ki-online-vortraege/
END:VEVENT
BEGIN:VTIMEZONE
TZID:Europe/Berlin
BEGIN:STANDARD
TZOFFSETFROM:+0200
TZOFFSETTO:+0100
DTSTART:20211031T010000
TZNAME:CET
END:STANDARD
END:VTIMEZONE
END:VCALENDAR
