BEGIN:VCALENDAR
VERSION:2.0
PRODID:-//Events | FID-Recht//NONSGML Events//EN
CALSCALE:GREGORIAN
X-ORIGINAL-URL:https://events.intrecht.de/termine/
X-WR-CALDESC:Events | FID-Recht - Events
BEGIN:VEVENT
UID:20230122T2005Z-1674417917.9283-EO-8024-1@172.16.200.151
STATUS:CONFIRMED
DTSTAMP:20260422T065003Z
CREATED:20230116T165512Z
LAST-MODIFIED:20230116T165512Z
DTSTART;VALUE=DATE:20230126
DTEND;VALUE=DATE:20230127
SUMMARY: Knut Ipsen Lecture Series – The Future of the Law of Peace and the
  Law of Armed Conflict against the Background of Increasing Confrontations
DESCRIPTION: 26.1.2023 / Online und Bochum https://voelkerrechtsblog.org/ev
 ents/the-future-of-the-law-of-peace-and-the-law-of-armed-conflict-against-t
 he-background-of-increasing-confrontations/  
X-ALT-DESC;FMTTYPE=text/html: <p>26.1.2023 / Online und Bochum</p><p><a hre
 f="https://voelkerrechtsblog.org/events/the-future-of-the-law-of-peace-and-
 the-law-of-armed-conflict-against-the-background-of-increasing-confrontatio
 ns/">https://voelkerrechtsblog.org/events/the-future-of-the-law-of-peace-an
 d-the-law-of-armed-conflict-against-the-background-of-increasing-confrontat
 ions/</a></p><p> </p><p>[av_button label='iCal-Export' link='./feed/eo-even
 ts' link_target='' size='small' position='center' label_display='' title_at
 tr='' icon_select='yes' icon='ue85b' font='entypo-fontello' color='custom' 
 custom_bg='#b5123e' custom_font='#ffffff' av_uid='' id='' custom_class='' a
 dmin_preview_bg='']</p>
CATEGORIES:Europäisches / Internationales Recht
LOCATION:Online
GEO:0.000000;0.000000
ORGANIZER;CN="ViFa-Recht":MAILTO:vifa-recht@sbb.spk-berlin.de
URL;VALUE=URI:https://events.intrecht.de/termine/termin/knut-ipsen-lecture-
 series-the-future-of-the-law-of-peace-and-the-law-of-armed-conflict-against
 -the-background-of-increasing-confrontations/
END:VEVENT
BEGIN:VTIMEZONE
TZID:Europe/Berlin
BEGIN:STANDARD
TZOFFSETFROM:+0200
TZOFFSETTO:+0100
DTSTART:20221030T010000
TZNAME:CET
END:STANDARD
END:VTIMEZONE
END:VCALENDAR
