BEGIN:VCALENDAR
VERSION:2.0
PRODID:-//Events | FID-Recht//NONSGML Events//EN
CALSCALE:GREGORIAN
X-ORIGINAL-URL:https://events.intrecht.de/termine/
X-WR-CALDESC:Events | FID-Recht - Events
BEGIN:VEVENT
UID:20221209T0106Z-1670548004.8943-EO-7722-1@172.16.200.151
STATUS:CONFIRMED
DTSTAMP:20260421T164236Z
CREATED:20221206T172819Z
LAST-MODIFIED:20221206T172819Z
DTSTART;VALUE=DATE:20221214
DTEND;VALUE=DATE:20221215
SUMMARY: Knut Ipsen Lecture Series: Humanitarian Studies Today – Developmen
 t of a Research Field
DESCRIPTION: 14.12.2022 / Bochum https://www.ifhv.de/news/Knut-Ipsen-Lectur
 e-Series  
X-ALT-DESC;FMTTYPE=text/html: <p>14.12.2022 / Bochum</p><p><a href="https:/
 /www.ifhv.de/news/Knut-Ipsen-Lecture-Series">https://www.ifhv.de/news/Knut-
 Ipsen-Lecture-Series</a></p><p> </p><p>[av_button label='iCal-Export' link=
 './feed/eo-events' link_target='' size='small' position='center' label_disp
 lay='' title_attr='' icon_select='yes' icon='ue85b' font='entypo-fontello' 
 color='custom' custom_bg='#b5123e' custom_font='#ffffff' av_uid='' id='' cu
 stom_class='' admin_preview_bg='']</p>
CATEGORIES:Recht interdisziplinär
LOCATION:Inland
GEO:0.000000;0.000000
ORGANIZER;CN="ViFa-Recht":MAILTO:vifa-recht@sbb.spk-berlin.de
URL;VALUE=URI:https://events.intrecht.de/termine/termin/knut-ipsen-lecture-
 series-humanitarian-studies-today-development-of-a-research-field/
END:VEVENT
BEGIN:VTIMEZONE
TZID:Europe/Berlin
BEGIN:STANDARD
TZOFFSETFROM:+0200
TZOFFSETTO:+0100
DTSTART:20221030T010000
TZNAME:CET
END:STANDARD
END:VTIMEZONE
END:VCALENDAR
