BEGIN:VCALENDAR
VERSION:2.0
PRODID:-//Events | FID-Recht//NONSGML Events//EN
CALSCALE:GREGORIAN
X-ORIGINAL-URL:https://events.intrecht.de/termine/
X-WR-CALDESC:Events | FID-Recht - Events
BEGIN:VEVENT
UID:20200603T1418Z-1591193923.3362-EO-587-1@172.16.200.141
STATUS:CONFIRMED
DTSTAMP:20260422T192458Z
CREATED:20241111T140528Z
LAST-MODIFIED:20241111T140528Z
DTSTART;VALUE=DATE:20250706
DTEND;VALUE=DATE:20250712
SUMMARY: Knowing Justice in the Anthropocene (5th ISA Forum of Sociology)
DESCRIPTION: 6.-11.7.2025 / Rabat https://www.isa-sociology.org/en/conferen
 ces/forum/rabat-2025/5th-isa-forum-theme
X-ALT-DESC;FMTTYPE=text/html: <p>6.-11.7.2025 / Rabat</p><p><a href="https:
 //www.isa-sociology.org/en/conferences/forum/rabat-2025/5th-isa-forum-theme
 ">https://www.isa-sociology.org/en/conferences/forum/rabat-2025/5th-isa-for
 um-theme</a></p><p>[av_button label='iCal-Export' link='./feed/eo-events' l
 ink_target='' size='small' position='center' label_display='' title_attr=''
  icon_select='yes' icon='ue85b' font='entypo-fontello' color='custom' custo
 m_bg='#b5123e' custom_font='#ffffff' av_uid='' id='' custom_class='' admin_
 preview_bg='']</p>
CATEGORIES:Recht interdisziplinär
LOCATION:Ausland
GEO:0.000000;0.000000
ORGANIZER;CN="ViFa-Recht":MAILTO:vifa-recht@sbb.spk-berlin.de
URL;VALUE=URI:https://events.intrecht.de/termine/termin/knowing-justice-in-
 the-anthropocene-5th-isa-forum-of-sociology/
END:VEVENT
BEGIN:VTIMEZONE
TZID:Europe/Berlin
BEGIN:DAYLIGHT
TZOFFSETFROM:+0100
TZOFFSETTO:+0200
DTSTART:20250330T010000
TZNAME:CEST
END:DAYLIGHT
END:VTIMEZONE
END:VCALENDAR
