BEGIN:VCALENDAR
VERSION:2.0
PRODID:-//Events | FID-Recht//NONSGML Events//EN
CALSCALE:GREGORIAN
X-ORIGINAL-URL:https://events.intrecht.de/termine/
X-WR-CALDESC:Events | FID-Recht - Events
BEGIN:VEVENT
UID:20220610T1543Z-1654875823.6874-EO-4051-1@172.16.200.151
STATUS:CONFIRMED
DTSTAMP:20260421T133840Z
CREATED:20220609T164528Z
LAST-MODIFIED:20220609T164528Z
DTSTART;VALUE=DATE:20220618
DTEND;VALUE=DATE:20220618
SUMMARY: Klimawandelhaftung und nachhaltiges Privat- und Wirtschaftsrecht (
 Tagung)
DESCRIPTION: 18.6.2022\, Hamburg Sommerkonzil und Jahrestreffen des Vereins
  der Freunde (mpipriv.de)  
X-ALT-DESC;FMTTYPE=text/html: <p>18.6.2022\, Hamburg</p><p><a href="https:/
 /events.mpipriv.de/sommerkonzil-verein-der-freunde">Sommerkonzil und Jahres
 treffen des Vereins der Freunde (mpipriv.de)</a></p><p> </p><p>[av_button l
 abel='iCal-Export' link='./feed/eo-events' link_target='' size='small' posi
 tion='center' label_display='' title_attr='' icon_select='yes' icon='ue85b'
  font='entypo-fontello' color='custom' custom_bg='#b5123e' custom_font='#ff
 ffff' av_uid='' id='' custom_class='' admin_preview_bg='']</p>
CATEGORIES:Zivilrecht
ORGANIZER;CN="ViFa-Recht":MAILTO:vifa-recht@sbb.spk-berlin.de
URL;VALUE=URI:https://events.intrecht.de/termine/termin/klimawandelhaftung-
 und-nachhaltiges-privat-und-wirtschaftsrecht-tagung/
END:VEVENT
BEGIN:VTIMEZONE
TZID:Europe/Berlin
BEGIN:DAYLIGHT
TZOFFSETFROM:+0100
TZOFFSETTO:+0200
DTSTART:20220327T010000
TZNAME:CEST
END:DAYLIGHT
END:VTIMEZONE
END:VCALENDAR
