BEGIN:VCALENDAR
VERSION:2.0
PRODID:-//Events | FID-Recht//NONSGML Events//EN
CALSCALE:GREGORIAN
X-ORIGINAL-URL:https://events.intrecht.de/termine/
X-WR-CALDESC:Events | FID-Recht - Events
BEGIN:VEVENT
UID:20200617T1910Z-1592421020.5526-EO-741-1@172.16.200.141
STATUS:CONFIRMED
DTSTAMP:20260421T115535Z
CREATED:20200603T120038Z
LAST-MODIFIED:20200603T132652Z
DTSTART;VALUE=DATE:20200619
DTEND;VALUE=DATE:20200620
SUMMARY: VERSCHOBEN: Klimawandel als Herausforderung des internationalen Re
 chts / Jahrestagung der DVIR 2020 (Konferenz)
DESCRIPTION: VERSCHOBEN auf 6.11.2020\, Frankfurt (Main) http://www.dvir.de
 /veranstaltungen/jahrestagung  
X-ALT-DESC;FMTTYPE=text/html: <p>VERSCHOBEN auf <span style="display: inlin
 e !important\; float: none\; background-color: #ffffff\; color: #333333\; c
 ursor: text\; font-family: Georgia\,'Times New Roman'\,'Bitstream Charter'\
 ,Times\,serif\; font-size: 16px\; font-style: normal\; font-variant: normal
 \; font-weight: 400\; letter-spacing: normal\; orphans: 2\; text-align: lef
 t\; text-decoration: none\; text-indent: 0px\; text-transform: none\; -webk
 it-text-stroke-width: 0px\; white-space: normal\; word-spacing: 0px\;">6.11
 .2020</span>\, Frankfurt (Main)<br /><a href="http://www.dvir.de/veranstalt
 ungen/jahrestagung">http://www.dvir.de/veranstaltungen/jahrestagung</a></p>
 <p> </p><p>[av_button label='iCal-Export' link='./feed/eo-events' link_targ
 et='' size='small' position='center' label_display='' title_attr='' icon_se
 lect='yes' icon='ue85b' font='entypo-fontello' color='custom' custom_bg='#b
 5123e' custom_font='#ffffff' av_uid='' id='' custom_class='' admin_preview_
 bg='']</p>
CATEGORIES:Europäisches / Internationales Recht
LOCATION:Inland
GEO:0.000000;0.000000
ORGANIZER;CN="ViFa-Recht":MAILTO:vifa-recht@sbb.spk-berlin.de
URL;VALUE=URI:https://events.intrecht.de/termine/termin/klimawandel-als-her
 ausforderung-des-internationalen-rechts-jahrestagung-der-dvir-2020-konferen
 z/
END:VEVENT
BEGIN:VTIMEZONE
TZID:Europe/Berlin
BEGIN:DAYLIGHT
TZOFFSETFROM:+0100
TZOFFSETTO:+0200
DTSTART:20200329T010000
TZNAME:CEST
END:DAYLIGHT
END:VTIMEZONE
END:VCALENDAR
