BEGIN:VCALENDAR
VERSION:2.0
PRODID:-//Events | FID-Recht//NONSGML Events//EN
CALSCALE:GREGORIAN
X-ORIGINAL-URL:https://events.intrecht.de/termine/
X-WR-CALDESC:Events | FID-Recht - Events
BEGIN:VEVENT
UID:20211002T0752Z-1633161175.8346-EO-4678-1@172.16.200.141
STATUS:CONFIRMED
DTSTAMP:20260423T004545Z
CREATED:20211001T144514Z
LAST-MODIFIED:20211001T144514Z
DTSTART;TZID=Europe/Berlin:20211007T160000
DTEND;TZID=Europe/Berlin:20211007T180000
SUMMARY: Klimaklagen vor internationalen Gerichten (Online-Podiumsdiskussio
 n)
DESCRIPTION: 7.10.2021\, Online Klimaklagen vor internationalen Gerichten: 
 | Boell Calendar  
X-ALT-DESC;FMTTYPE=text/html: <p>7.10.2021\, Online</p><p><a href="https://
 calendar.boell.de/de/event/klimaklagen-vor-internationalen-gerichten">Klima
 klagen vor internationalen Gerichten: | Boell Calendar</a></p><p> </p><p>[a
 v_button label='iCal-Export' link='./feed/eo-events' link_target='' size='s
 mall' position='center' label_display='' title_attr='' icon_select='yes' ic
 on='ue85b' font='entypo-fontello' color='custom' custom_bg='#b5123e' custom
 _font='#ffffff' av_uid='' id='' custom_class='' admin_preview_bg='']</p>
CATEGORIES:Europäisches / Internationales Recht,Recht interdisziplinär
LOCATION:Online
GEO:0.000000;0.000000
ORGANIZER;CN="ViFa-Recht":MAILTO:vifa-recht@sbb.spk-berlin.de
URL;VALUE=URI:https://events.intrecht.de/termine/termin/klimaklagen-vor-int
 ernationalen-gerichten-online-podiumsdiskussion/
END:VEVENT
BEGIN:VTIMEZONE
TZID:Europe/Berlin
BEGIN:DAYLIGHT
TZOFFSETFROM:+0100
TZOFFSETTO:+0200
DTSTART:20210328T010000
TZNAME:CEST
END:DAYLIGHT
END:VTIMEZONE
END:VCALENDAR
