BEGIN:VCALENDAR
VERSION:2.0
PRODID:-//Events | FID-Recht//NONSGML Events//EN
CALSCALE:GREGORIAN
X-ORIGINAL-URL:https://events.intrecht.de/termine/
X-WR-CALDESC:Events | FID-Recht - Events
BEGIN:VEVENT
UID:20200603T1418Z-1591193923.3362-EO-587-1@172.16.200.141
STATUS:CONFIRMED
DTSTAMP:20260425T132614Z
CREATED:20231017T143619Z
LAST-MODIFIED:20231017T143619Z
DTSTART;VALUE=DATE:20231019
DTEND;VALUE=DATE:20231020
SUMMARY: Klimaaktivismus der Letzten Generation – Zur Legalität und Legitim
 ität einer  politischen Praxis (Podiumsdiskussion / Vorlesungsreihe „Klima 
 vor Gericht/Climate Contested. Interdisziplinäre Perspektiven auf Recht(e) 
 in der ökologischen Krise)
DESCRIPTION: 19.10.2023 / Online und Frankfurt am Main https://contrust.uni
 -frankfurt.de/event/klimaaktivismus-der-letzten-generation-zur-legalitaet-u
 nd-legitimitaeteiner-politischen-praxis/
X-ALT-DESC;FMTTYPE=text/html: <p>19.10.2023 / Online und Frankfurt am Main<
 /p><p><a href="https://contrust.uni-frankfurt.de/event/klimaaktivismus-der-
 letzten-generation-zur-legalitaet-und-legitimitaeteiner-politischen-praxis/
 ">https://contrust.uni-frankfurt.de/event/klimaaktivismus-der-letzten-gener
 ation-zur-legalitaet-und-legitimitaeteiner-politischen-praxis/</a></p><p>[a
 v_button label='iCal-Export' link='./feed/eo-events' link_target='' size='s
 mall' position='center' label_display='' title_attr='' icon_select='yes' ic
 on='ue85b' font='entypo-fontello' color='custom' custom_bg='#b5123e' custom
 _font='#ffffff' av_uid='' id='' custom_class='' admin_preview_bg='']</p>
CATEGORIES:Recht interdisziplinär
LOCATION:Online
GEO:0.000000;0.000000
ORGANIZER;CN="ViFa-Recht":MAILTO:vifa-recht@sbb.spk-berlin.de
URL;VALUE=URI:https://events.intrecht.de/termine/termin/klimaaktivismus-der
 -letzten-generation-zur-legalitaet-und-legitimitaet-einer-politischen-praxi
 s-podiumsdiskussion-vorlesungsreihe-klima-vor-gericht-climate-contested-int
 erdiszi/
END:VEVENT
BEGIN:VTIMEZONE
TZID:Europe/Berlin
BEGIN:DAYLIGHT
TZOFFSETFROM:+0100
TZOFFSETTO:+0200
DTSTART:20230326T010000
TZNAME:CEST
END:DAYLIGHT
END:VTIMEZONE
END:VCALENDAR
