BEGIN:VCALENDAR
VERSION:2.0
PRODID:-//Events | FID-Recht//NONSGML Events//EN
CALSCALE:GREGORIAN
X-ORIGINAL-URL:https://events.intrecht.de/termine/
X-WR-CALDESC:Events | FID-Recht - Events
BEGIN:VEVENT
UID:20201216T1818Z-1608142731.1305-EO-2425-1@172.16.200.141
STATUS:CONFIRMED
DTSTAMP:20260425T193327Z
CREATED:20201124T182442Z
LAST-MODIFIED:20201124T182442Z
DTSTART;VALUE=DATE:20201128
DTEND;VALUE=DATE:20201128
SUMMARY: Klima und Recht (BAKJ-Kongress 2020) (Online-Kongress)
DESCRIPTION: 28.-29.11.2020\, Online https://klimaundrecht.bakj.de/  
X-ALT-DESC;FMTTYPE=text/html: <p>28.-29.11.2020\, Online</p><p><a href="htt
 ps://klimaundrecht.bakj.de/">https://klimaundrecht.bakj.de/</a></p><p> </p>
 <p>[av_button label='iCal-Export' link='./feed/eo-events' link_target='' si
 ze='small' position='center' label_display='' title_attr='' icon_select='ye
 s' icon='ue85b' font='entypo-fontello' color='custom' custom_bg='#b5123e' c
 ustom_font='#ffffff' av_uid='' id='' custom_class='' admin_preview_bg='']</
 p>
CATEGORIES:Europäisches / Internationales Recht,Öffentliches Recht,Recht interdisziplinär
LOCATION:Online
GEO:0.000000;0.000000
ORGANIZER;CN="ViFa-Recht":MAILTO:vifa-recht@sbb.spk-berlin.de
URL;VALUE=URI:https://events.intrecht.de/termine/termin/klima-und-recht-bak
 j-kongress-2020-online-kongress/
END:VEVENT
BEGIN:VTIMEZONE
TZID:Europe/Berlin
BEGIN:STANDARD
TZOFFSETFROM:+0200
TZOFFSETTO:+0100
DTSTART:20201025T010000
TZNAME:CET
END:STANDARD
END:VTIMEZONE
END:VCALENDAR
