BEGIN:VCALENDAR
VERSION:2.0
PRODID:-//Events | FID-Recht//NONSGML Events//EN
CALSCALE:GREGORIAN
X-ORIGINAL-URL:https://events.intrecht.de/termine/
X-WR-CALDESC:Events | FID-Recht - Events
BEGIN:VEVENT
UID:20220610T0702Z-1654844574.2691-EO-4019-1@172.16.200.151
STATUS:CONFIRMED
DTSTAMP:20260421T115621Z
CREATED:20220608T162752Z
LAST-MODIFIED:20220623T135223Z
DTSTART;VALUE=DATE:20220707
DTEND;VALUE=DATE:20220708
SUMMARY: Klassismus und Verfassungsrecht – Bietet das Verfassungsrecht Schu
 tz vor intersektional klassistischer Diskriminierung? (mit Nazli Aghazadeh-
 Wegener) ((Online-)Vortrag)
DESCRIPTION: 7.7.2022\, Münster/Online Klassismus und Verfassungsrecht · La
 w & Political Economy Germany (pubpub.org)  
X-ALT-DESC;FMTTYPE=text/html: <p>7.7.2022\, Münster/Online</p><p><a href="h
 ttps://lpeg.pubpub.org/pub/6g5eqtpn/release/4">Klassismus und Verfassungsre
 cht · Law & Political Economy Germany (pubpub.org)</a></p><p> </p><p>[av_bu
 tton label='iCal-Export' link='./feed/eo-events' link_target='' size='small
 ' position='center' label_display='' title_attr='' icon_select='yes' icon='
 ue85b' font='entypo-fontello' color='custom' custom_bg='#b5123e' custom_fon
 t='#ffffff' av_uid='' id='' custom_class='' admin_preview_bg='']</p>
CATEGORIES:Öffentliches Recht
LOCATION:Online
GEO:0.000000;0.000000
ORGANIZER;CN="ViFa-Recht":MAILTO:vifa-recht@sbb.spk-berlin.de
URL;VALUE=URI:https://events.intrecht.de/termine/termin/klassismus-und-verf
 assungsrecht-bietet-das-verfassungsrecht-schutz-vor-intersektional-klassist
 ischer-diskriminierung-mit-nazli-aghazadeh-wegener-online-vortrag/
END:VEVENT
BEGIN:VTIMEZONE
TZID:Europe/Berlin
BEGIN:DAYLIGHT
TZOFFSETFROM:+0100
TZOFFSETTO:+0200
DTSTART:20220327T010000
TZNAME:CEST
END:DAYLIGHT
END:VTIMEZONE
END:VCALENDAR
