BEGIN:VCALENDAR
VERSION:2.0
PRODID:-//Events | FID-Recht//NONSGML Events//EN
CALSCALE:GREGORIAN
X-ORIGINAL-URL:https://events.intrecht.de/termine/
X-WR-CALDESC:Events | FID-Recht - Events
BEGIN:VEVENT
UID:20200927T2038Z-1601239123.8028-EO-1533-1@172.16.200.141
STATUS:CONFIRMED
DTSTAMP:20260422T161103Z
CREATED:20200922T170019Z
LAST-MODIFIED:20200922T170041Z
DTSTART;VALUE=DATE:20200917
DTEND;VALUE=DATE:20200920
SUMMARY: Kinship and Business. Law\, Gender and Generational Perspectives (
 16th–20th Centuries) Verwandtschaft und Geschäft. Recht\, Geschlecht und Ge
 nerationperspektiven (16.–20. Jahrhundert) (Konferenz)
DESCRIPTION: 17.-19.9.2020\, Bozen https://www.hsozkult.de/event/id/termine
 -42064    
X-ALT-DESC;FMTTYPE=text/html: <p>17.-19.9.2020\, Bozen</p><p><a href="https
 ://www.hsozkult.de/event/id/termine-42064">https://www.hsozkult.de/event/id
 /termine-42064</a></p><p><strong> </strong></p><p> </p><p>[av_button label=
 'iCal-Export' link='./feed/eo-events' link_target='' size='small' position=
 'center' label_display='' title_attr='' icon_select='yes' icon='ue85b' font
 ='entypo-fontello' color='custom' custom_bg='#b5123e' custom_font='#ffffff'
  av_uid='' id='' custom_class='' admin_preview_bg='']</p>
CATEGORIES:Recht interdisziplinär,Zivilrecht
LOCATION:Ausland
GEO:0.000000;0.000000
ORGANIZER;CN="ViFa-Recht":MAILTO:vifa-recht@sbb.spk-berlin.de
URL;VALUE=URI:https://events.intrecht.de/termine/termin/kinship-and-busines
 s-law-gender-and-generational-perspectives-16th-20th-centuries-verwandtscha
 ft-und-geschaeft-recht-geschlecht-und-generationperspektiven-16-20-jahrhund
 ert/
END:VEVENT
BEGIN:VTIMEZONE
TZID:Europe/Berlin
BEGIN:DAYLIGHT
TZOFFSETFROM:+0100
TZOFFSETTO:+0200
DTSTART:20200329T010000
TZNAME:CEST
END:DAYLIGHT
END:VTIMEZONE
END:VCALENDAR
