BEGIN:VCALENDAR
VERSION:2.0
PRODID:-//Events | FID-Recht//NONSGML Events//EN
CALSCALE:GREGORIAN
X-ORIGINAL-URL:https://events.intrecht.de/termine/
X-WR-CALDESC:Events | FID-Recht - Events
BEGIN:VEVENT
UID:20211117T2041Z-1637181687.3961-EO-5150-1@172.16.200.141
STATUS:CONFIRMED
DTSTAMP:20260423T040834Z
CREATED:20211116T231856Z
LAST-MODIFIED:20211116T231856Z
DTSTART;VALUE=DATE:20211122
DTEND;VALUE=DATE:20211123
SUMMARY: KI und Roboter als Subjekte der Zurechnung (mit Eric Hilgendorf) (
 Online-Vortrag)
DESCRIPTION: 22.11.2021\, Online KI und Roboter als Subjekte der Zurechnung
  (rechtimkontext.de)  
X-ALT-DESC;FMTTYPE=text/html: <p>22.11.2021\, Online</p><p><a href="https:/
 /www.rechtimkontext.de/en/events/event/ki-und-roboter-als-subjekte-der-zure
 chnung/">KI und Roboter als Subjekte der Zurechnung (rechtimkontext.de)</a>
 </p><p> </p><p>[av_button label='iCal-Export' link='./feed/eo-events' link_
 target='' size='small' position='center' label_display='' title_attr='' ico
 n_select='yes' icon='ue85b' font='entypo-fontello' color='custom' custom_bg
 ='#b5123e' custom_font='#ffffff' av_uid='' id='' custom_class='' admin_prev
 iew_bg='']</p>
CATEGORIES:Recht interdisziplinär
LOCATION:Online
GEO:0.000000;0.000000
ORGANIZER;CN="ViFa-Recht":MAILTO:vifa-recht@sbb.spk-berlin.de
URL;VALUE=URI:https://events.intrecht.de/termine/termin/ki-und-roboter-als-
 subjekte-der-zurechnung-mit-eric-hilgendorf-online-vortrag/
END:VEVENT
BEGIN:VTIMEZONE
TZID:Europe/Berlin
BEGIN:STANDARD
TZOFFSETFROM:+0200
TZOFFSETTO:+0100
DTSTART:20211031T010000
TZNAME:CET
END:STANDARD
END:VTIMEZONE
END:VCALENDAR
