BEGIN:VCALENDAR
VERSION:2.0
PRODID:-//Events | FID-Recht//NONSGML Events//EN
CALSCALE:GREGORIAN
X-ORIGINAL-URL:https://events.intrecht.de/termine/
X-WR-CALDESC:Events | FID-Recht - Events
BEGIN:VEVENT
UID:20200603T1418Z-1591193923.3362-EO-587-1@172.16.200.141
STATUS:CONFIRMED
DTSTAMP:20260425T234626Z
CREATED:20230710T135053Z
LAST-MODIFIED:20230710T135053Z
DTSTART;VALUE=DATE:20230825
DTEND;VALUE=DATE:20230827
SUMMARY: KI – Text und Geltung. Wie verändern KI-Textgeneratoren wissenscha
 ftliche Diskurse? (Interdisziplinäre Tagung)
DESCRIPTION: 25.-26.8.2023 / Darmstadt https://zevedi.de/wp-content/uploads
 /2023/05/ZEVEDI-CfP_KI_Text-und-Geltung_20230825-26.pdf
X-ALT-DESC;FMTTYPE=text/html: <p>25.-26.8.2023 / Darmstadt</p><p><a href="h
 ttps://zevedi.de/wp-content/uploads/2023/05/ZEVEDI-CfP_KI_Text-und-Geltung_
 20230825-26.pdf">https://zevedi.de/wp-content/uploads/2023/05/ZEVEDI-CfP_KI
 _Text-und-Geltung_20230825-26.pdf</a></p><p>[av_button label='iCal-Export' 
 link='./feed/eo-events' link_target='' size='small' position='center' label
 _display='' title_attr='' icon_select='yes' icon='ue85b' font='entypo-fonte
 llo' color='custom' custom_bg='#b5123e' custom_font='#ffffff' av_uid='' id=
 '' custom_class='' admin_preview_bg='']</p>
CATEGORIES:Recht interdisziplinär
LOCATION:Inland
GEO:0.000000;0.000000
ORGANIZER;CN="ViFa-Recht":MAILTO:vifa-recht@sbb.spk-berlin.de
URL;VALUE=URI:https://events.intrecht.de/termine/termin/ki-text-und-geltung
 -wie-veraendern-ki-textgeneratoren-wissenschaftliche-diskurse-interdiszipli
 naere-tagung/
END:VEVENT
BEGIN:VTIMEZONE
TZID:Europe/Berlin
BEGIN:DAYLIGHT
TZOFFSETFROM:+0100
TZOFFSETTO:+0200
DTSTART:20230326T010000
TZNAME:CEST
END:DAYLIGHT
END:VTIMEZONE
END:VCALENDAR
