BEGIN:VCALENDAR
VERSION:2.0
PRODID:-//Events | FID-Recht//NONSGML Events//EN
CALSCALE:GREGORIAN
X-ORIGINAL-URL:https://events.intrecht.de/termine/
X-WR-CALDESC:Events | FID-Recht - Events
BEGIN:VEVENT
UID:20211219T0512Z-1639890762.8412-EO-5438-1@172.16.200.141
STATUS:CONFIRMED
DTSTAMP:20260425T121850Z
CREATED:20211216T113811Z
LAST-MODIFIED:20220103T141455Z
DTSTART;VALUE=DATE:20220117
DTEND;VALUE=DATE:20220118
SUMMARY: KI\, IoT und Blockchain (DGRI-Drei-Ländertreffen 2022) (Tagung) (C
 fP)
DESCRIPTION: 30.6.-2.7.2022\, Karlsruhe (Frist für Einreichungen: 17.1.2022
 ) Call for Papers: KI\, IoT und Blockchain (dgri.de)  
X-ALT-DESC;FMTTYPE=text/html: <p>30.6.-2.7.2022\, Karlsruhe (Frist für Einr
 eichungen: 17.1.2022)</p><p><a href="https://www.dgri.de/145n88">Call for P
 apers: KI\, IoT und Blockchain (dgri.de)</a></p><p> </p><p>[av_button label
 ='iCal-Export' link='./feed/eo-events' link_target='' size='small' position
 ='center' label_display='' title_attr='' icon_select='yes' icon='ue85b' fon
 t='entypo-fontello' color='custom' custom_bg='#b5123e' custom_font='#ffffff
 ' av_uid='' id='' custom_class='' admin_preview_bg='']</p>
CATEGORIES:Recht interdisziplinär
LOCATION:Inland
GEO:0.000000;0.000000
ORGANIZER;CN="ViFa-Recht":MAILTO:vifa-recht@sbb.spk-berlin.de
URL;VALUE=URI:https://events.intrecht.de/termine/termin/ki-iot-und-blockcha
 in-dgri-drei-laendertreffen-2022-tagung-cfp/
END:VEVENT
BEGIN:VTIMEZONE
TZID:Europe/Berlin
BEGIN:STANDARD
TZOFFSETFROM:+0200
TZOFFSETTO:+0100
DTSTART:20211031T010000
TZNAME:CET
END:STANDARD
END:VTIMEZONE
END:VCALENDAR
