BEGIN:VCALENDAR
VERSION:2.0
PRODID:-//Events | FID-Recht//NONSGML Events//EN
CALSCALE:GREGORIAN
X-ORIGINAL-URL:https://events.intrecht.de/termine/
X-WR-CALDESC:Events | FID-Recht - Events
BEGIN:VEVENT
UID:20210108T0911Z-1610097082.8097-EO-2267-1@172.16.200.141
STATUS:CONFIRMED
DTSTAMP:20260421T102921Z
CREATED:20201230T171431Z
LAST-MODIFIED:20201230T171431Z
DTSTART;VALUE=DATE:20210112
DTEND;VALUE=DATE:20210112
SUMMARY: Key Legal Concepts in Law and Literature – Unwritten Law (mit Yuva
 l Kremnitzer und Shai Lavi) (Online-Vortrag)
DESCRIPTION: 12.1.2021\, Online https://www.selma-stern-zentrum.de/kalender
 /Wintersemester-2020_21/DLS_Key-Legal-Concepts-in-Law-and-Literature/DLS-Ke
 y-Legal-Concepts_-Unwritten-Law.html  
X-ALT-DESC;FMTTYPE=text/html: <p>12.1.2021\, Online</p><p><a href="https://
 www.selma-stern-zentrum.de/kalender/Wintersemester-2020_21/DLS_Key-Legal-Co
 ncepts-in-Law-and-Literature/DLS-Key-Legal-Concepts_-Unwritten-Law.html">ht
 tps://www.selma-stern-zentrum.de/kalender/Wintersemester-2020_21/DLS_Key-Le
 gal-Concepts-in-Law-and-Literature/DLS-Key-Legal-Concepts_-Unwritten-Law.ht
 ml</a></p><p> </p><p>[av_button label='iCal-Export' link='./feed/eo-events'
  link_target='' size='small' position='center' label_display='' title_attr=
 '' icon_select='yes' icon='ue85b' font='entypo-fontello' color='custom' cus
 tom_bg='#b5123e' custom_font='#ffffff' av_uid='' id='' custom_class='' admi
 n_preview_bg='']</p>
CATEGORIES:Recht interdisziplinär
LOCATION:Online
GEO:0.000000;0.000000
ORGANIZER;CN="ViFa-Recht":MAILTO:vifa-recht@sbb.spk-berlin.de
URL;VALUE=URI:https://events.intrecht.de/termine/termin/key-legal-concepts-
 in-law-and-literature-unwritten-law-mit-yuval-kremnitzer-und-shai-lavi-onli
 ne-vortrag/
END:VEVENT
BEGIN:VTIMEZONE
TZID:Europe/Berlin
BEGIN:STANDARD
TZOFFSETFROM:+0200
TZOFFSETTO:+0100
DTSTART:20201025T010000
TZNAME:CET
END:STANDARD
END:VTIMEZONE
END:VCALENDAR
