BEGIN:VCALENDAR
VERSION:2.0
PRODID:-//Events | FID-Recht//NONSGML Events//EN
CALSCALE:GREGORIAN
X-ORIGINAL-URL:https://events.intrecht.de/termine/
X-WR-CALDESC:Events | FID-Recht - Events
BEGIN:VEVENT
UID:20201118T0600Z-1605679249.041-EO-2210-1@172.16.200.141
STATUS:CONFIRMED
DTSTAMP:20260421T115618Z
CREATED:20201111T170953Z
LAST-MODIFIED:20201201T154138Z
DTSTART;VALUE=DATE:20201201
DTEND;VALUE=DATE:20201202
SUMMARY: Key Legal Concepts in Law and Literature – Genocide (mit Klaus Hof
 fmann-Holland und Susanne Zepp-Zwirner) (Online-Vortrag)
DESCRIPTION: 1.12.2020\, Online https://www.selma-stern-zentrum.de/kalender
 /Wintersemester-2020_21/DLS_Key-Legal-Concepts-in-Law-and-Literature/DLS-Ke
 y-Legal-Concepts_-Genocide.html  
X-ALT-DESC;FMTTYPE=text/html: <p>1.12.2020\, Online</p><p><a href="https://
 www.selma-stern-zentrum.de/kalender/Wintersemester-2020_21/DLS_Key-Legal-Co
 ncepts-in-Law-and-Literature/DLS-Key-Legal-Concepts_-Genocide.html">https:/
 /www.selma-stern-zentrum.de/kalender/Wintersemester-2020_21/DLS_Key-Legal-C
 oncepts-in-Law-and-Literature/DLS-Key-Legal-Concepts_-Genocide.html</a></p>
 <p> </p><p>[av_button label='iCal-Export' link='./feed/eo-events' link_targ
 et='' size='small' position='center' label_display='' title_attr='' icon_se
 lect='yes' icon='ue85b' font='entypo-fontello' color='custom' custom_bg='#b
 5123e' custom_font='#ffffff' av_uid='' id='' custom_class='' admin_preview_
 bg='']</p>
CATEGORIES:Europäisches / Internationales Recht,Recht interdisziplinär,Strafrecht
LOCATION:Online
GEO:0.000000;0.000000
ORGANIZER;CN="ViFa-Recht":MAILTO:vifa-recht@sbb.spk-berlin.de
URL;VALUE=URI:https://events.intrecht.de/termine/termin/key-legal-concepts-
 in-law-and-literature-genocide-mit-klaus-hoffmann-holland-und-susanne-zepp-
 zwirner-online-vortrag/
END:VEVENT
BEGIN:VTIMEZONE
TZID:Europe/Berlin
BEGIN:STANDARD
TZOFFSETFROM:+0200
TZOFFSETTO:+0100
DTSTART:20201025T010000
TZNAME:CET
END:STANDARD
END:VTIMEZONE
END:VCALENDAR
