BEGIN:VCALENDAR
VERSION:2.0
PRODID:-//Events | FID-Recht//NONSGML Events//EN
CALSCALE:GREGORIAN
X-ORIGINAL-URL:https://events.intrecht.de/termine/
X-WR-CALDESC:Events | FID-Recht - Events
BEGIN:VEVENT
UID:20200603T1418Z-1591193923.3362-EO-587-1@172.16.200.141
STATUS:CONFIRMED
DTSTAMP:20260421T133439Z
CREATED:20230905T103538Z
LAST-MODIFIED:20230905T103538Z
DTSTART;VALUE=DATE:20230928
DTEND;VALUE=DATE:20230930
SUMMARY: Keilschriftrecht zwischen Theorie und Praxis (Internationaler Work
 shop)
DESCRIPTION: 28.-29.9.2023 / Berlin https://www.sfb-episteme.de/veranstaltu
 ngen/Vorschau/2023/A01_Keilschriftrecht.html
X-ALT-DESC;FMTTYPE=text/html: <p>28.-29.9.2023 / Berlin</p><p><a href="http
 s://www.sfb-episteme.de/veranstaltungen/Vorschau/2023/A01_Keilschriftrecht.
 html">https://www.sfb-episteme.de/veranstaltungen/Vorschau/2023/A01_Keilsch
 riftrecht.html</a></p><p>[av_button label='iCal-Export' link='./feed/eo-eve
 nts' link_target='' size='small' position='center' label_display='' title_a
 ttr='' icon_select='yes' icon='ue85b' font='entypo-fontello' color='custom'
  custom_bg='#b5123e' custom_font='#ffffff' av_uid='' id='' custom_class='' 
 admin_preview_bg='']</p>
CATEGORIES:Recht interdisziplinär
LOCATION:Inland
GEO:0.000000;0.000000
ORGANIZER;CN="ViFa-Recht":MAILTO:vifa-recht@sbb.spk-berlin.de
URL;VALUE=URI:https://events.intrecht.de/termine/termin/keilschriftrecht-zw
 ischen-theorie-und-praxis-internationaler-workshop/
END:VEVENT
BEGIN:VTIMEZONE
TZID:Europe/Berlin
BEGIN:DAYLIGHT
TZOFFSETFROM:+0100
TZOFFSETTO:+0200
DTSTART:20230326T010000
TZNAME:CEST
END:DAYLIGHT
END:VTIMEZONE
END:VCALENDAR
