BEGIN:VCALENDAR
VERSION:2.0
PRODID:-//Events | FID-Recht//NONSGML Events//EN
CALSCALE:GREGORIAN
X-ORIGINAL-URL:https://events.intrecht.de/termine/
X-WR-CALDESC:Events | FID-Recht - Events
BEGIN:VEVENT
UID:20220813T0508Z-1660367328.4966-EO-7407-1@172.16.200.151
STATUS:CONFIRMED
DTSTAMP:20260422T003318Z
CREATED:20220808T184842Z
LAST-MODIFIED:20220808T184842Z
DTSTART;VALUE=DATE:20230731
DTEND;VALUE=DATE:20230731
SUMMARY: Kämpfe um Diversität – Theorie an der Grenze von Wissenschaft und 
 Politik (Tagung) (CfP)
DESCRIPTION: 15.-17.3.2023\, Duisburg-Essen (Frist für Einreichungen: 31.7.
 2022) https://www.theorieblog.de/index.php/2022/06/cfp-kaempfe-um-diversita
 et-sektionstagung-in-duisburg-essen-15-17-03-2023/  
X-ALT-DESC;FMTTYPE=text/html: <p>15.-17.3.2023\, Duisburg-Essen (Frist für 
 Einreichungen: 31.7.2022)</p><p><a href="https://www.theorieblog.de/index.p
 hp/2022/06/cfp-kaempfe-um-diversitaet-sektionstagung-in-duisburg-essen-15-1
 7-03-2023/">https://www.theorieblog.de/index.php/2022/06/cfp-kaempfe-um-div
 ersitaet-sektionstagung-in-duisburg-essen-15-17-03-2023/</a></p><p> </p><p>
 [av_button label='iCal-Export' link='./feed/eo-events' link_target='' size=
 'small' position='center' label_display='' title_attr='' icon_select='yes' 
 icon='ue85b' font='entypo-fontello' color='custom' custom_bg='#b5123e' cust
 om_font='#ffffff' av_uid='' id='' custom_class='' admin_preview_bg='']</p>
CATEGORIES:Recht interdisziplinär
LOCATION:Inland
GEO:0.000000;0.000000
ORGANIZER;CN="ViFa-Recht":MAILTO:vifa-recht@sbb.spk-berlin.de
URL;VALUE=URI:https://events.intrecht.de/termine/termin/kaempfe-um-diversit
 aet-theorie-an-der-grenze-von-wissenschaft-und-politik-tagung-cfp/
END:VEVENT
BEGIN:VTIMEZONE
TZID:Europe/Berlin
BEGIN:DAYLIGHT
TZOFFSETFROM:+0100
TZOFFSETTO:+0200
DTSTART:20230326T010000
TZNAME:CEST
END:DAYLIGHT
END:VTIMEZONE
END:VCALENDAR
