BEGIN:VCALENDAR
VERSION:2.0
PRODID:-//Events | FID-Recht//NONSGML Events//EN
CALSCALE:GREGORIAN
X-ORIGINAL-URL:https://events.intrecht.de/termine/
X-WR-CALDESC:Events | FID-Recht - Events
BEGIN:VEVENT
UID:20200603T1418Z-1591193923.3362-EO-587-1@172.16.200.141
STATUS:CONFIRMED
DTSTAMP:20260425T164108Z
CREATED:20230302T062709Z
LAST-MODIFIED:20230302T062709Z
DTSTART;VALUE=DATE:20230315
DTEND;VALUE=DATE:20230318
SUMMARY: Kämpfe um Diversität – Theorie an der Grenze von Wissenschaft und 
 Politik (Tagung)
DESCRIPTION: 15.-17.3.2023 / Duisburg-Essen https://www.dvpw.de/fileadmin/u
 ser_upload/sek_vp/Politische_Theorie/cfp-kaempfe_um_diversitaet.pdf
X-ALT-DESC;FMTTYPE=text/html: <p>15.-17.3.2023 / Duisburg-Essen</p><p><a hr
 ef="https://www.dvpw.de/fileadmin/user_upload/sek_vp/Politische_Theorie/cfp
 -kaempfe_um_diversitaet.pdf">https://www.dvpw.de/fileadmin/user_upload/sek_
 vp/Politische_Theorie/cfp-kaempfe_um_diversitaet.pdf</a></p><p>[av_button l
 abel='iCal-Export' link='./feed/eo-events' link_target='' size='small' posi
 tion='center' label_display='' title_attr='' icon_select='yes' icon='ue85b'
  font='entypo-fontello' color='custom' custom_bg='#b5123e' custom_font='#ff
 ffff' av_uid='' id='' custom_class='' admin_preview_bg='']</p>
CATEGORIES:Recht interdisziplinär
LOCATION:Inland
GEO:0.000000;0.000000
ORGANIZER;CN="ViFa-Recht":MAILTO:vifa-recht@sbb.spk-berlin.de
URL;VALUE=URI:https://events.intrecht.de/termine/termin/kaempfe-um-diversit
 aet-theorie-an-der-grenze-von-wissenschaft-und-politik-tagung-2/
END:VEVENT
BEGIN:VTIMEZONE
TZID:Europe/Berlin
BEGIN:STANDARD
TZOFFSETFROM:+0200
TZOFFSETTO:+0100
DTSTART:20221030T010000
TZNAME:CET
END:STANDARD
END:VTIMEZONE
END:VCALENDAR
