BEGIN:VCALENDAR
VERSION:2.0
PRODID:-//Events | FID-Recht//NONSGML Events//EN
CALSCALE:GREGORIAN
X-ORIGINAL-URL:https://events.intrecht.de/termine/
X-WR-CALDESC:Events | FID-Recht - Events
BEGIN:VEVENT
UID:20201117T2350Z-1605657013.2086-EO-2136-1@172.16.200.141
STATUS:CONFIRMED
DTSTAMP:20260421T214303Z
CREATED:20201104T193338Z
LAST-MODIFIED:20201104T193338Z
DTSTART;VALUE=DATE:20201204
DTEND;VALUE=DATE:20201204
SUMMARY: JuWissLab – Gute Lehre im Öffentlichen Recht (Online-Tagung)
DESCRIPTION: 4.12.2020\, Online https://www.juwiss.de/juwisslab2020/  
X-ALT-DESC;FMTTYPE=text/html: <p>4.12.2020\, Online</p><p><a href="https://
 www.juwiss.de/juwisslab2020/">https://www.juwiss.de/juwisslab2020/</a></p><
 p> </p><p>[av_button label='iCal-Export' link='./feed/eo-events' link_targe
 t='' size='small' position='center' label_display='' title_attr='' icon_sel
 ect='yes' icon='ue85b' font='entypo-fontello' color='custom' custom_bg='#b5
 123e' custom_font='#ffffff' av_uid='' id='' custom_class='' admin_preview_b
 g='']</p>
CATEGORIES:Öffentliches Recht
LOCATION:Online
GEO:0.000000;0.000000
ORGANIZER;CN="ViFa-Recht":MAILTO:vifa-recht@sbb.spk-berlin.de
URL;VALUE=URI:https://events.intrecht.de/termine/termin/juwisslab-gute-lehr
 e-im-oeffentlichen-recht-online-tagung-2/
END:VEVENT
BEGIN:VTIMEZONE
TZID:Europe/Berlin
BEGIN:STANDARD
TZOFFSETFROM:+0200
TZOFFSETTO:+0100
DTSTART:20201025T010000
TZNAME:CET
END:STANDARD
END:VTIMEZONE
END:VCALENDAR
