BEGIN:VCALENDAR
VERSION:2.0
PRODID:-//Events | FID-Recht//NONSGML Events//EN
CALSCALE:GREGORIAN
X-ORIGINAL-URL:https://events.intrecht.de/termine/
X-WR-CALDESC:Events | FID-Recht - Events
BEGIN:VEVENT
UID:20200603T1418Z-1591193923.3362-EO-587-1@172.16.200.141
STATUS:CONFIRMED
DTSTAMP:20260422T071633Z
CREATED:20231219T115610Z
LAST-MODIFIED:20231219T115610Z
DTSTART;VALUE=DATE:20240116
DTEND;VALUE=DATE:20240117
SUMMARY: Just Words? Ethics and the Language of Criminal Justice (Hybrid-Ev
 ent)
DESCRIPTION: 16.1.2024 / Online und London https://www.lse.ac.uk/law/Assets
 /Documents/criminal/Poster-CLCJT-Forum-202324.pdf
X-ALT-DESC;FMTTYPE=text/html: <p>16.1.2024 / Online und London</p><p><a hre
 f="https://www.lse.ac.uk/law/Assets/Documents/criminal/Poster-CLCJT-Forum-2
 02324.pdf">https://www.lse.ac.uk/law/Assets/Documents/criminal/Poster-CLCJT
 -Forum-202324.pdf</a></p><p>[av_button label='iCal-Export' link='./feed/eo-
 events' link_target='' size='small' position='center' label_display='' titl
 e_attr='' icon_select='yes' icon='ue85b' font='entypo-fontello' color='cust
 om' custom_bg='#b5123e' custom_font='#ffffff' av_uid='' id='' custom_class=
 '' admin_preview_bg='']</p>
CATEGORIES:Recht interdisziplinär
LOCATION:Online
GEO:0.000000;0.000000
ORGANIZER;CN="ViFa-Recht":MAILTO:vifa-recht@sbb.spk-berlin.de
URL;VALUE=URI:https://events.intrecht.de/termine/termin/just-words-ethics-a
 nd-the-language-of-criminal-justice-hybrid-event/
END:VEVENT
BEGIN:VTIMEZONE
TZID:Europe/Berlin
BEGIN:STANDARD
TZOFFSETFROM:+0200
TZOFFSETTO:+0100
DTSTART:20231029T010000
TZNAME:CET
END:STANDARD
END:VTIMEZONE
END:VCALENDAR
