BEGIN:VCALENDAR
VERSION:2.0
PRODID:-//Events | FID-Recht//NONSGML Events//EN
CALSCALE:GREGORIAN
X-ORIGINAL-URL:https://events.intrecht.de/termine/
X-WR-CALDESC:Events | FID-Recht - Events
BEGIN:VEVENT
UID:20200603T1418Z-1591193923.3362-EO-587-1@172.16.200.141
STATUS:CONFIRMED
DTSTAMP:20260422T204626Z
CREATED:20240328T143113Z
LAST-MODIFIED:20240328T143113Z
DTSTART;VALUE=DATE:20240409
DTEND;VALUE=DATE:20240411
SUMMARY: Juristische Laufbahnplanung und demokratischer Wandel: Richterinne
 n und Richter an den Obersten Gerichten der Bundesrepublik Deutschland\, 19
 50–1970 (Workshop)
DESCRIPTION: 9.-10.4.2024 / Berlin https://www.hsozkult.de/event/id/event-1
 43074
X-ALT-DESC;FMTTYPE=text/html: <p>9.-10.4.2024 / Berlin</p><p><a href="https
 ://www.hsozkult.de/event/id/event-143074">https://www.hsozkult.de/event/id/
 event-143074</a></p><p>[av_button label='iCal-Export' link='./feed/eo-event
 s' link_target='' size='small' position='center' label_display='' title_att
 r='' icon_select='yes' icon='ue85b' font='entypo-fontello' color='custom' c
 ustom_bg='#b5123e' custom_font='#ffffff' av_uid='' id='' custom_class='' ad
 min_preview_bg='']</p>
CATEGORIES:Recht interdisziplinär
LOCATION:Inland
GEO:0.000000;0.000000
ORGANIZER;CN="ViFa-Recht":MAILTO:vifa-recht@sbb.spk-berlin.de
URL;VALUE=URI:https://events.intrecht.de/termine/termin/juristische-laufbah
 nplanung-und-demokratischer-wandel-richterinnen-und-richter-an-den-obersten
 -gerichten-der-bundesrepublik-deutschland-1950-1970-workshop/
END:VEVENT
BEGIN:VTIMEZONE
TZID:Europe/Berlin
BEGIN:DAYLIGHT
TZOFFSETFROM:+0100
TZOFFSETTO:+0200
DTSTART:20240331T010000
TZNAME:CEST
END:DAYLIGHT
END:VTIMEZONE
END:VCALENDAR
