BEGIN:VCALENDAR
VERSION:2.0
PRODID:-//Events | FID-Recht//NONSGML Events//EN
CALSCALE:GREGORIAN
X-ORIGINAL-URL:https://events.intrecht.de/termine/
X-WR-CALDESC:Events | FID-Recht - Events
BEGIN:VEVENT
UID:20210803T0214Z-1627956889.5821-EO-4102-1@172.16.200.141
STATUS:CONFIRMED
DTSTAMP:20260422T154441Z
CREATED:20210730T171420Z
LAST-MODIFIED:20210818T164200Z
DTSTART;VALUE=DATE:20210903
DTEND;VALUE=DATE:20210905
SUMMARY: Jurisdiktion – Wer spricht internationales Recht? (AjV-DGIR Online
 -&Präsenz-Tagung)
DESCRIPTION: 3.-4.9.2021\, Bonn/Online https://www.jura.uni-bonn.de/institu
 t-fuer-voelkerrecht/ajv-dgir-tagung-2021/ Registrierung zur Online-Teilnahm
 e unter: Meeting-Registrierung – Zoom  
X-ALT-DESC;FMTTYPE=text/html: <p>3.-4.9.2021\, Bonn/Online</p><p><a href="h
 ttps://www.jura.uni-bonn.de/institut-fuer-voelkerrecht/ajv-dgir-tagung-2021
 /">https://www.jura.uni-bonn.de/institut-fuer-voelkerrecht/ajv-dgir-tagung-
 2021/</a></p><p>Registrierung zur Online-Teilnahme unter:</p><p><a href="ht
 tps://uni-bonn.zoom.us/meeting/register/tJAtceuhrzoiHtSe20N_FIefVxVTNrS8k_Z
 r">Meeting-Registrierung - Zoom</a></p><p> </p><p>[av_button label='iCal-Ex
 port' link='./feed/eo-events' link_target='' size='small' position='center'
  label_display='' title_attr='' icon_select='yes' icon='ue85b' font='entypo
 -fontello' color='custom' custom_bg='#b5123e' custom_font='#ffffff' av_uid=
 '' id='' custom_class='' admin_preview_bg='']</p>
CATEGORIES:Europäisches / Internationales Recht
LOCATION:Online
GEO:0.000000;0.000000
ORGANIZER;CN="ViFa-Recht":MAILTO:vifa-recht@sbb.spk-berlin.de
URL;VALUE=URI:https://events.intrecht.de/termine/termin/jurisdiktion-wer-sp
 richt-internationales-recht-ajv-dgir-tagung/
END:VEVENT
BEGIN:VTIMEZONE
TZID:Europe/Berlin
BEGIN:DAYLIGHT
TZOFFSETFROM:+0100
TZOFFSETTO:+0200
DTSTART:20210328T010000
TZNAME:CEST
END:DAYLIGHT
END:VTIMEZONE
END:VCALENDAR
