BEGIN:VCALENDAR
VERSION:2.0
PRODID:-//Events | FID-Recht//NONSGML Events//EN
CALSCALE:GREGORIAN
X-ORIGINAL-URL:https://events.intrecht.de/termine/
X-WR-CALDESC:Events | FID-Recht - Events
BEGIN:VEVENT
UID:20220319T1757Z-1647712642.7699-EO-5294-1@172.16.200.141
STATUS:CONFIRMED
DTSTAMP:20260422T125215Z
CREATED:20220316T185826Z
LAST-MODIFIED:20220316T185826Z
DTSTART;VALUE=DATE:20220514
DTEND;VALUE=DATE:20220516
SUMMARY: Jurisdiction Over Non-EU Defendants – Should the Brussels Ia Regul
 ation be Extended? (EAPIL Young Research Network Conference)
DESCRIPTION: 14.-15.5.2022\, Dubrovnik EAPIL Young Research Network Confere
 nce in Dubrovnik – EAPIL  
X-ALT-DESC;FMTTYPE=text/html: <p>14.-15.5.2022\, Dubrovnik</p><p><a href="h
 ttps://eapil.org/2022/03/04/eapil-young-research-network-conference-in-dubr
 ovnik/">EAPIL Young Research Network Conference in Dubrovnik – EAPIL</a></p
 ><p> </p><p>[av_button label='iCal-Export' link='./feed/eo-events' link_tar
 get='' size='small' position='center' label_display='' title_attr='' icon_s
 elect='yes' icon='ue85b' font='entypo-fontello' color='custom' custom_bg='#
 b5123e' custom_font='#ffffff' av_uid='' id='' custom_class='' admin_preview
 _bg='']</p>
CATEGORIES:Europäisches / Internationales Recht
LOCATION:Online
GEO:0.000000;0.000000
ORGANIZER;CN="ViFa-Recht":MAILTO:vifa-recht@sbb.spk-berlin.de
URL;VALUE=URI:https://events.intrecht.de/termine/termin/jurisdiction-over-n
 on-eu-defendants-should-the-brussels-ia-regulation-be-extended-eapil-young-
 research-network-conference/
END:VEVENT
BEGIN:VTIMEZONE
TZID:Europe/Berlin
BEGIN:DAYLIGHT
TZOFFSETFROM:+0100
TZOFFSETTO:+0200
DTSTART:20220327T010000
TZNAME:CEST
END:DAYLIGHT
END:VTIMEZONE
END:VCALENDAR
