BEGIN:VCALENDAR
VERSION:2.0
PRODID:-//Events | FID-Recht//NONSGML Events//EN
CALSCALE:GREGORIAN
X-ORIGINAL-URL:https://events.intrecht.de/termine/
X-WR-CALDESC:Events | FID-Recht - Events
BEGIN:VEVENT
UID:20200603T1418Z-1591193923.3362-EO-587-1@172.16.200.141
STATUS:CONFIRMED
DTSTAMP:20260425T231622Z
CREATED:20230427T130454Z
LAST-MODIFIED:20230427T130454Z
DTSTART;VALUE=DATE:20230517
DTEND;VALUE=DATE:20230518
SUMMARY: Jurastudentinnen im Nationalsozialismus (Vortrag)
DESCRIPTION: 17.5.2023 / Berlin Veranstaltungen — Humboldt-Universität zu B
 erlin (hu-berlin.de)
X-ALT-DESC;FMTTYPE=text/html: <p>17.5.2023 / Berlin</p><p><a href="https://
 www.hu-berlin.de/de/service/veranstaltungen/veranstaltungen_neu?vk_id=9254&
 stat=show&cat=&iter=&page=&date=">Veranstaltungen — Humboldt-Universität zu
  Berlin (hu-berlin.de)</a></p><p>[av_button label='iCal-Export' link='./fee
 d/eo-events' link_target='' size='small' position='center' label_display=''
  title_attr='' icon_select='yes' icon='ue85b' font='entypo-fontello' color=
 'custom' custom_bg='#b5123e' custom_font='#ffffff' av_uid='' id='' custom_c
 lass='' admin_preview_bg='']</p>
CATEGORIES:Recht interdisziplinär
LOCATION:Inland
GEO:0.000000;0.000000
ORGANIZER;CN="ViFa-Recht":MAILTO:vifa-recht@sbb.spk-berlin.de
URL;VALUE=URI:https://events.intrecht.de/termine/termin/jurastudentinnen-im
 -nationalsozialismus-vortrag/
END:VEVENT
BEGIN:VTIMEZONE
TZID:Europe/Berlin
BEGIN:DAYLIGHT
TZOFFSETFROM:+0100
TZOFFSETTO:+0200
DTSTART:20230326T010000
TZNAME:CEST
END:DAYLIGHT
END:VTIMEZONE
END:VCALENDAR
