BEGIN:VCALENDAR
VERSION:2.0
PRODID:-//Events | FID-Recht//NONSGML Events//EN
CALSCALE:GREGORIAN
X-ORIGINAL-URL:https://events.intrecht.de/termine/
X-WR-CALDESC:Events | FID-Recht - Events
BEGIN:VEVENT
UID:20211008T1822Z-1633717338.5938-EO-4429-1@172.16.200.141
STATUS:CONFIRMED
DTSTAMP:20260425T151001Z
CREATED:20211005T171624Z
LAST-MODIFIED:20211005T171624Z
DTSTART;VALUE=DATE:20211114
DTEND;VALUE=DATE:20211117
SUMMARY: (Junior Scholars) Workshop: Legal Change in Revolutionary Times
DESCRIPTION: 14.-16.11.2021\, Tel Aviv https://taujuniorscholars.wixsite.co
 m/website/call-for-papers  
X-ALT-DESC;FMTTYPE=text/html: <p>14.-16.11.2021\, Tel Aviv</p><p><a href="h
 ttps://taujuniorscholars.wixsite.com/website/call-for-papers">https://tauju
 niorscholars.wixsite.com/website/call-for-papers</a></p><p> </p><p>[av_butt
 on label='iCal-Export' link='./feed/eo-events' link_target='' size='small' 
 position='center' label_display='' title_attr='' icon_select='yes' icon='ue
 85b' font='entypo-fontello' color='custom' custom_bg='#b5123e' custom_font=
 '#ffffff' av_uid='' id='' custom_class='' admin_preview_bg='']</p>
CATEGORIES:Recht interdisziplinär
LOCATION:Ausland
GEO:0.000000;0.000000
ORGANIZER;CN="ViFa-Recht":MAILTO:vifa-recht@sbb.spk-berlin.de
URL;VALUE=URI:https://events.intrecht.de/termine/termin/junior-scholars-wor
 kshop-legal-change-in-revolutionary-times/
END:VEVENT
BEGIN:VTIMEZONE
TZID:Europe/Berlin
BEGIN:STANDARD
TZOFFSETFROM:+0200
TZOFFSETTO:+0100
DTSTART:20211031T010000
TZNAME:CET
END:STANDARD
END:VTIMEZONE
END:VCALENDAR
