BEGIN:VCALENDAR
VERSION:2.0
PRODID:-//Events | FID-Recht//NONSGML Events//EN
CALSCALE:GREGORIAN
X-ORIGINAL-URL:https://events.intrecht.de/termine/
X-WR-CALDESC:Events | FID-Recht - Events
BEGIN:VEVENT
UID:20200603T1418Z-1591193923.3362-EO-587-1@172.16.200.141
STATUS:CONFIRMED
DTSTAMP:20260423T003027Z
CREATED:20250218T085729Z
LAST-MODIFIED:20250218T090006Z
DTSTART;VALUE=DATE:20251010
DTEND;VALUE=DATE:20251011
SUMMARY: Junges Wirtschaftsstrafrecht 7.0 – Technologic Technologic Technol
 ogic (Hybrid Event)
DESCRIPTION: 10.10.2025 / Online und Frankfurt am Main (Einreichungsfrist: 
 31.3.2025) https://wistev.de/veranstaltungen/junges-wirtschaftsstrafrecht-7
 -0/
X-ALT-DESC;FMTTYPE=text/html: <p>10.10.2025 / Online und Frankfurt am Main 
 <strong>(Einreichungsfrist: 31.3.2025)</strong></p><p><a href="https://wist
 ev.de/veranstaltungen/junges-wirtschaftsstrafrecht-7-0/">https://wistev.de/
 veranstaltungen/junges-wirtschaftsstrafrecht-7-0/</a></p><p>[av_button labe
 l='iCal-Export' link='./feed/eo-events' link_target='' size='small' positio
 n='center' label_display='' title_attr='' icon_select='yes' icon='ue85b' fo
 nt='entypo-fontello' color='custom' custom_bg='#b5123e' custom_font='#fffff
 f' av_uid='' id='' custom_class='' admin_preview_bg='']</p>
CATEGORIES:Strafrecht
LOCATION:Hybrid
GEO:0.000000;0.000000
ORGANIZER;CN="ViFa-Recht":MAILTO:vifa-recht@sbb.spk-berlin.de
URL;VALUE=URI:https://events.intrecht.de/termine/termin/junges-wirtschaftss
 trafrecht-7-0-technologic-technologic-technologic-hybrid-event/
END:VEVENT
BEGIN:VTIMEZONE
TZID:Europe/Berlin
BEGIN:DAYLIGHT
TZOFFSETFROM:+0100
TZOFFSETTO:+0200
DTSTART:20250330T010000
TZNAME:CEST
END:DAYLIGHT
END:VTIMEZONE
END:VCALENDAR
