BEGIN:VCALENDAR
VERSION:2.0
PRODID:-//Events | FID-Recht//NONSGML Events//EN
CALSCALE:GREGORIAN
X-ORIGINAL-URL:https://events.intrecht.de/termine/
X-WR-CALDESC:Events | FID-Recht - Events
BEGIN:VEVENT
UID:20220716T0447Z-1657946862.282-EO-4536-1@172.16.200.151
STATUS:CONFIRMED
DTSTAMP:20260421T102820Z
CREATED:20220713T161753Z
LAST-MODIFIED:20220713T161753Z
DTSTART;VALUE=DATE:20221007
DTEND;VALUE=DATE:20221007
SUMMARY: Junges Wirtschaftsstrafrecht 4.0 – Neue Tendenzen zur Sanktionieru
 ng „über Bande“? ((Online-) Tagung)
DESCRIPTION: 7.10.2022\, Frankfurt (Main)/Online https://wistev.de/veransta
 ltungen/junges_wirtschaftsstrafrecht_4.0/  
X-ALT-DESC;FMTTYPE=text/html: <p>7.10.2022\, Frankfurt (Main)/Online</p><p>
 <a href="https://wistev.de/veranstaltungen/junges_wirtschaftsstrafrecht_4.0
 /">https://wistev.de/veranstaltungen/junges_wirtschaftsstrafrecht_4.0/</a><
 /p><p> </p><p>[av_button label='iCal-Export' link='./feed/eo-events' link_t
 arget='' size='small' position='center' label_display='' title_attr='' icon
 _select='yes' icon='ue85b' font='entypo-fontello' color='custom' custom_bg=
 '#b5123e' custom_font='#ffffff' av_uid='' id='' custom_class='' admin_previ
 ew_bg='']</p>
CATEGORIES:Strafrecht
LOCATION:Online
GEO:0.000000;0.000000
ORGANIZER;CN="ViFa-Recht":MAILTO:vifa-recht@sbb.spk-berlin.de
URL;VALUE=URI:https://events.intrecht.de/termine/termin/junges-wirtschaftss
 trafrecht-4-0-neue-tendenzen-zur-sanktionierung-ueber-bande-online-tagung/
END:VEVENT
BEGIN:VTIMEZONE
TZID:Europe/Berlin
BEGIN:DAYLIGHT
TZOFFSETFROM:+0100
TZOFFSETTO:+0200
DTSTART:20220327T010000
TZNAME:CEST
END:DAYLIGHT
END:VTIMEZONE
END:VCALENDAR
