BEGIN:VCALENDAR
VERSION:2.0
PRODID:-//Events | FID-Recht//NONSGML Events//EN
CALSCALE:GREGORIAN
X-ORIGINAL-URL:https://events.intrecht.de/termine/
X-WR-CALDESC:Events | FID-Recht - Events
BEGIN:VEVENT
UID:20220626T1522Z-1656256932.227-EO-4306-1@172.16.200.151
STATUS:CONFIRMED
DTSTAMP:20260421T102509Z
CREATED:20220623T140242Z
LAST-MODIFIED:20220623T140242Z
DTSTART;VALUE=DATE:20220722
DTEND;VALUE=DATE:20220724
SUMMARY: Junges Digitales Recht/Young Digital Law – Transparency vs. Opacit
 y (Tagung)
DESCRIPTION: 22.-23.7.2022\, Hamburg (Anmeldefrist: 7.7.2022) https://www.j
 ura.uni-hamburg.de/forschung/institute-forschungsstellen-und-zentren/digita
 lisierung-und-recht/forschung/graduiertenkolleg/tagung/programm-jdr-2022-we
 b.pdf  
X-ALT-DESC;FMTTYPE=text/html: <p>22.-23.7.2022\, Hamburg (Anmeldefrist: 7.7
 .2022)</p><p><a href="https://www.jura.uni-hamburg.de/forschung/institute-f
 orschungsstellen-und-zentren/digitalisierung-und-recht/forschung/graduierte
 nkolleg/tagung/programm-jdr-2022-web.pdf">https://www.jura.uni-hamburg.de/f
 orschung/institute-forschungsstellen-und-zentren/digitalisierung-und-recht/
 forschung/graduiertenkolleg/tagung/programm-jdr-2022-web.pdf</a></p><p> </p
 ><p>[av_button label='iCal-Export' link='./feed/eo-events' link_target='' s
 ize='small' position='center' label_display='' title_attr='' icon_select='y
 es' icon='ue85b' font='entypo-fontello' color='custom' custom_bg='#b5123e' 
 custom_font='#ffffff' av_uid='' id='' custom_class='' admin_preview_bg='']<
 /p>
CATEGORIES:Recht interdisziplinär
LOCATION:Inland
GEO:0.000000;0.000000
ORGANIZER;CN="ViFa-Recht":MAILTO:vifa-recht@sbb.spk-berlin.de
URL;VALUE=URI:https://events.intrecht.de/termine/termin/junges-digitales-re
 cht-young-digital-law-transparency-vs-opacity-tagung/
END:VEVENT
BEGIN:VTIMEZONE
TZID:Europe/Berlin
BEGIN:DAYLIGHT
TZOFFSETFROM:+0100
TZOFFSETTO:+0200
DTSTART:20220327T010000
TZNAME:CEST
END:DAYLIGHT
END:VTIMEZONE
END:VCALENDAR
