BEGIN:VCALENDAR
VERSION:2.0
PRODID:-//Events | FID-Recht//NONSGML Events//EN
CALSCALE:GREGORIAN
X-ORIGINAL-URL:https://events.intrecht.de/termine/
X-WR-CALDESC:Events | FID-Recht - Events
BEGIN:VEVENT
UID:20230418T0518Z-1681795129.1215-EO-12729-1@172.16.200.151
STATUS:CONFIRMED
DTSTAMP:20260423T083059Z
CREATED:20230209T150910Z
LAST-MODIFIED:20230209T150910Z
DTSTART;VALUE=DATE:20230228
DTEND;VALUE=DATE:20230301
SUMMARY: Junge Wissenschaft trifft Politik (Diskussionsrunde)
DESCRIPTION: 28.2.2023 / Berlin https://www.wzb.eu/de/veranstaltungen/junge
 -wissenschaft-trifft-politik-4  
X-ALT-DESC;FMTTYPE=text/html: <p>28.2.2023 / Berlin</p><p><a href="https://
 www.wzb.eu/de/veranstaltungen/junge-wissenschaft-trifft-politik-4">https://
 www.wzb.eu/de/veranstaltungen/junge-wissenschaft-trifft-politik-4</a></p><p
 > </p><p>[av_button label='iCal-Export' link='./feed/eo-events' link_target
 ='' size='small' position='center' label_display='' title_attr='' icon_sele
 ct='yes' icon='ue85b' font='entypo-fontello' color='custom' custom_bg='#b51
 23e' custom_font='#ffffff' av_uid='' id='' custom_class='' admin_preview_bg
 ='']</p>
CATEGORIES:Recht interdisziplinär
LOCATION:Inland
GEO:0.000000;0.000000
ORGANIZER;CN="ViFa-Recht":MAILTO:vifa-recht@sbb.spk-berlin.de
URL;VALUE=URI:https://events.intrecht.de/termine/termin/junge-wissenschaft-
 trifft-politik-diskussionsrunde/
END:VEVENT
BEGIN:VTIMEZONE
TZID:Europe/Berlin
BEGIN:STANDARD
TZOFFSETFROM:+0200
TZOFFSETTO:+0100
DTSTART:20221030T010000
TZNAME:CET
END:STANDARD
END:VTIMEZONE
END:VCALENDAR
