BEGIN:VCALENDAR
VERSION:2.0
PRODID:-//Events | FID-Recht//NONSGML Events//EN
CALSCALE:GREGORIAN
X-ORIGINAL-URL:https://events.intrecht.de/termine/
X-WR-CALDESC:Events | FID-Recht - Events
BEGIN:VEVENT
UID:20200603T1418Z-1591193923.3362-EO-587-1@172.16.200.141
STATUS:CONFIRMED
DTSTAMP:20260425T163329Z
CREATED:20231025T101655Z
LAST-MODIFIED:20231025T101655Z
DTSTART;VALUE=DATE:20240326
DTEND;VALUE=DATE:20240328
SUMMARY: Junge Tagung Sozialrecht
DESCRIPTION: 26.-27.3.2024 / Berlin (Einreichungsfrist: 15.11.2023) https:/
 /www.juwiss.de/wp-content/uploads/2023/09/call-for-papers-jt-sozialrecht.pd
 f
X-ALT-DESC;FMTTYPE=text/html: <p>26.-27.3.2024 / Berlin <strong>(Einreichun
 gsfrist: 15.11.2023)</strong></p><p><a href="https://www.juwiss.de/wp-conte
 nt/uploads/2023/09/call-for-papers-jt-sozialrecht.pdf">https://www.juwiss.d
 e/wp-content/uploads/2023/09/call-for-papers-jt-sozialrecht.pdf</a></p><p>[
 av_button label='iCal-Export' link='./feed/eo-events' link_target='' size='
 small' position='center' label_display='' title_attr='' icon_select='yes' i
 con='ue85b' font='entypo-fontello' color='custom' custom_bg='#b5123e' custo
 m_font='#ffffff' av_uid='' id='' custom_class='' admin_preview_bg='']</p>
CATEGORIES:Öffentliches Recht
LOCATION:Inland
GEO:0.000000;0.000000
ORGANIZER;CN="ViFa-Recht":MAILTO:vifa-recht@sbb.spk-berlin.de
URL;VALUE=URI:https://events.intrecht.de/termine/termin/junge-tagung-sozial
 recht/
END:VEVENT
BEGIN:VTIMEZONE
TZID:Europe/Berlin
BEGIN:STANDARD
TZOFFSETFROM:+0100
TZOFFSETTO:+0100
DTSTART:20231029T010000
TZNAME:CET
END:STANDARD
END:VTIMEZONE
END:VCALENDAR
