BEGIN:VCALENDAR
VERSION:2.0
PRODID:-//Events | FID-Recht//NONSGML Events//EN
CALSCALE:GREGORIAN
X-ORIGINAL-URL:https://events.intrecht.de/termine/
X-WR-CALDESC:Events | FID-Recht - Events
BEGIN:VEVENT
UID:20220405T1146Z-1649159195.1513-EO-6433-1@172.16.200.141
STATUS:CONFIRMED
DTSTAMP:20260420T111847Z
CREATED:20220404T173829Z
LAST-MODIFIED:20220404T173851Z
DTSTART;VALUE=DATE:20220426
DTEND;VALUE=DATE:20220426
SUMMARY: Judicial review of European Central Bank’s decisions on monetary p
 olicy and banking supervision (with Fabian von Lindeiner and Agnese Pizzoll
 a) (Online-Vortrag)
DESCRIPTION: 26.4.2022\, Online Jean Monnet Course 2022 – Multilevel-Multip
 arty-Multisector Cross-Border Litigation in Europe – Jean Monnet Module 202
 0-2023 (unimi.it)  
X-ALT-DESC;FMTTYPE=text/html: <p>26.4.2022\, Online</p><p><a href="https://
 sites.unimi.it/crosslitigation/jean-monnet-course-2022/">Jean Monnet Course
  2022 – Multilevel-Multiparty-Multisector Cross-Border Litigation in Europe
  – Jean Monnet Module 2020-2023 (unimi.it)</a></p><p> </p><p>[av_button lab
 el='iCal-Export' link='./feed/eo-events' link_target='' size='small' positi
 on='center' label_display='' title_attr='' icon_select='yes' icon='ue85b' f
 ont='entypo-fontello' color='custom' custom_bg='#b5123e' custom_font='#ffff
 ff' av_uid='' id='' custom_class='' admin_preview_bg='']</p>
CATEGORIES:Europäisches / Internationales Recht
LOCATION:Online
GEO:0.000000;0.000000
ORGANIZER;CN="ViFa-Recht":MAILTO:vifa-recht@sbb.spk-berlin.de
URL;VALUE=URI:https://events.intrecht.de/termine/termin/judicial-review-of-
 european-central-banks-decisions-on-monetary-policy-and-banking-supervision
 -with-fabian-von-lindeiner-and-agnese-pizzolla-online-vortrag/
END:VEVENT
BEGIN:VTIMEZONE
TZID:Europe/Berlin
BEGIN:DAYLIGHT
TZOFFSETFROM:+0100
TZOFFSETTO:+0200
DTSTART:20220327T010000
TZNAME:CEST
END:DAYLIGHT
END:VTIMEZONE
END:VCALENDAR
